BEGIN:VCALENDAR
VERSION:2.0
PRODID:-//Wild Goose Space - ECPv6.15.20//NONSGML v1.0//EN
CALSCALE:GREGORIAN
METHOD:PUBLISH
X-ORIGINAL-URL:https://www.wildgoosespace.org.uk
X-WR-CALDESC:Events for Wild Goose Space
REFRESH-INTERVAL;VALUE=DURATION:PT1H
X-Robots-Tag:noindex
X-PUBLISHED-TTL:PT1H
BEGIN:VTIMEZONE
TZID:UTC
BEGIN:STANDARD
TZOFFSETFROM:+0000
TZOFFSETTO:+0000
TZNAME:UTC
DTSTART:20190101T000000
END:STANDARD
END:VTIMEZONE
BEGIN:VEVENT
DTSTART;TZID=UTC:20200125T090000
DTEND;TZID=UTC:20200125T133000
DTSTAMP:20260424T182525
CREATED:20180605T164938Z
LAST-MODIFIED:20180605T164938Z
UID:4585-1579942800-1579959000@www.wildgoosespace.org.uk
SUMMARY:Caroline Reid Yoga.
DESCRIPTION:  \nCaroline Reid Yoga. \nTeaching scaravelli influenced yoga since 2002. \nContact Caroline \ncaroline@carolinereidyoga.com \n07570 507494 \nEvery Month Saturdays at Wildgoose Space \n 
URL:https://www.wildgoosespace.org.uk/event/caroline-reid-yoga-32/
END:VEVENT
BEGIN:VEVENT
DTSTART;TZID=UTC:20200125T143000
DTEND;TZID=UTC:20200125T203000
DTSTAMP:20260424T182525
CREATED:20191025T115248Z
LAST-MODIFIED:20200114T170211Z
UID:7422-1579962600-1579984200@www.wildgoosespace.org.uk
SUMMARY:Begin Again
DESCRIPTION:One Day Creative Wrinting and Bodywork Retreat with \n  \nMichelle Denny
URL:https://www.wildgoosespace.org.uk/event/the-art-of-falling-2/
END:VEVENT
END:VCALENDAR