BEGIN:VCALENDAR
VERSION:2.0
PRODID:-//Wild Goose Space - ECPv6.15.20//NONSGML v1.0//EN
CALSCALE:GREGORIAN
METHOD:PUBLISH
X-WR-CALNAME:Wild Goose Space
X-ORIGINAL-URL:https://www.wildgoosespace.org.uk
X-WR-CALDESC:Events for Wild Goose Space
REFRESH-INTERVAL;VALUE=DURATION:PT1H
X-Robots-Tag:noindex
X-PUBLISHED-TTL:PT1H
BEGIN:VTIMEZONE
TZID:UTC
BEGIN:STANDARD
TZOFFSETFROM:+0000
TZOFFSETTO:+0000
TZNAME:UTC
DTSTART:20190101T000000
END:STANDARD
END:VTIMEZONE
BEGIN:VEVENT
DTSTART;TZID=UTC:20200117T090000
DTEND;TZID=UTC:20200119T180000
DTSTAMP:20260424T182350
CREATED:20181018T154327Z
LAST-MODIFIED:20181018T154556Z
UID:5393-1579251600-1579456800@www.wildgoosespace.org.uk
SUMMARY:Conscious Embodiment Training
DESCRIPTION:Conscious Embodiment Training \n  \nmatthewappleton@sky.com
URL:https://www.wildgoosespace.org.uk/event/conscious-embodiment-training-2/
END:VEVENT
END:VCALENDAR