BEGIN:VCALENDAR
VERSION:2.0
PRODID:-//Wild Goose Space - ECPv6.15.20//NONSGML v1.0//EN
CALSCALE:GREGORIAN
METHOD:PUBLISH
X-WR-CALNAME:Wild Goose Space
X-ORIGINAL-URL:https://www.wildgoosespace.org.uk
X-WR-CALDESC:Events for Wild Goose Space
REFRESH-INTERVAL;VALUE=DURATION:PT1H
X-Robots-Tag:noindex
X-PUBLISHED-TTL:PT1H
BEGIN:VTIMEZONE
TZID:UTC
BEGIN:STANDARD
TZOFFSETFROM:+0000
TZOFFSETTO:+0000
TZNAME:UTC
DTSTART:20190101T000000
END:STANDARD
END:VTIMEZONE
BEGIN:VEVENT
DTSTART;TZID=UTC:20200113T114500
DTEND;TZID=UTC:20200113T123000
DTSTAMP:20260424T182350
CREATED:20200113T175003Z
LAST-MODIFIED:20200113T175003Z
UID:7757-1578915900-1578918600@www.wildgoosespace.org.uk
SUMMARY:Creative Toddler + Parent Combo Dance Classes
DESCRIPTION:I am piloting this class due to DanceMums many requests as once your babies are older and start moving around\, it is a totally different game at DanceMums. It has been running successfully for 5 months now. \n\nWe will do a dance routine with them eventually\, but before that I will introduce them to dancing shapes\, levels\, directions\, creative movement\, basically all the main dance elements. \nThis class is not only for you\, but for both of you where your toddler is entertained and challenged to work with you and others as a team. \nIt is a preparation to creative movement dance class. It is a class to nurture your child’s creativity and curiosity\, while gently introducing them to dance and movement. \nThis is a great class to strengthen your mama/papa and toddler bond. We will do a lot of contemporary movement\, you need to be open minded\, participate and be ready to get sweaty. This class is shorter and without a hot drink at the end.
URL:https://www.wildgoosespace.org.uk/event/creative-toddler-parent-combo-dance-classes/
END:VEVENT
BEGIN:VEVENT
DTSTART;TZID=UTC:20200113T151500
DTEND;TZID=UTC:20200113T161500
DTSTAMP:20260424T182350
CREATED:20200112T162837Z
LAST-MODIFIED:20200112T162837Z
UID:7753-1578928500-1578932100@www.wildgoosespace.org.uk
SUMMARY:Private Hire
DESCRIPTION:Ruth
URL:https://www.wildgoosespace.org.uk/event/private-hire-99/
END:VEVENT
BEGIN:VEVENT
DTSTART;TZID=UTC:20200113T193000
DTEND;TZID=UTC:20200113T213000
DTSTAMP:20260424T182350
CREATED:20191231T180431Z
LAST-MODIFIED:20191231T180431Z
UID:7618-1578943800-1578951000@www.wildgoosespace.org.uk
SUMMARY:Georgian choir
DESCRIPTION:Georgian Choir  with Anthony Johnson. \nEvery Monday evening 7.30pm to 9.30pm during Term time. \nContact Anthony 07950 052100
URL:https://www.wildgoosespace.org.uk/event/georgian-choir-11/
END:VEVENT
END:VCALENDAR