BEGIN:VCALENDAR
VERSION:2.0
PRODID:-//Wild Goose Space - ECPv6.15.20//NONSGML v1.0//EN
CALSCALE:GREGORIAN
METHOD:PUBLISH
X-ORIGINAL-URL:https://www.wildgoosespace.org.uk
X-WR-CALDESC:Events for Wild Goose Space
REFRESH-INTERVAL;VALUE=DURATION:PT1H
X-Robots-Tag:noindex
X-PUBLISHED-TTL:PT1H
BEGIN:VTIMEZONE
TZID:UTC
BEGIN:STANDARD
TZOFFSETFROM:+0000
TZOFFSETTO:+0000
TZNAME:UTC
DTSTART:20190101T000000
END:STANDARD
END:VTIMEZONE
BEGIN:VEVENT
DTSTART;TZID=UTC:20200109T094500
DTEND;TZID=UTC:20200109T110000
DTSTAMP:20260424T165814
CREATED:20200109T154116Z
LAST-MODIFIED:20200109T154116Z
UID:7691-1578563100-1578567600@www.wildgoosespace.org.uk
SUMMARY:Mindful Yoga For All
DESCRIPTION:Mindful Yoga 4 All. \nClaire-Louise  Symonds \nmindfulyoga4all@gmail.com
URL:https://www.wildgoosespace.org.uk/event/mindful-yoga-for-all-4/
END:VEVENT
BEGIN:VEVENT
DTSTART;TZID=UTC:20200109T160000
DTEND;TZID=UTC:20200109T170000
DTSTAMP:20260424T165814
CREATED:20200109T155446Z
LAST-MODIFIED:20200109T155446Z
UID:7707-1578585600-1578589200@www.wildgoosespace.org.uk
SUMMARY:Family Yoga
DESCRIPTION:Family Yoga With claire Louise Symonds
URL:https://www.wildgoosespace.org.uk/event/family-yoga-3/
END:VEVENT
BEGIN:VEVENT
DTSTART;TZID=UTC:20200109T174500
DTEND;TZID=UTC:20200109T184500
DTSTAMP:20260424T165814
CREATED:20200123T133311Z
LAST-MODIFIED:20200123T150729Z
UID:7840-1578591900-1578595500@www.wildgoosespace.org.uk
SUMMARY:Dance Hall With Dee
DESCRIPTION:Dancehall with Dee
URL:https://www.wildgoosespace.org.uk/event/dance-hall-dee/
END:VEVENT
BEGIN:VEVENT
DTSTART;TZID=UTC:20200109T193000
DTEND;TZID=UTC:20200109T213000
DTSTAMP:20260424T165814
CREATED:20190916T110231Z
LAST-MODIFIED:20190916T110231Z
UID:7276-1578598200-1578605400@www.wildgoosespace.org.uk
SUMMARY:Woman's Circle
DESCRIPTION:Woman’s Circle with Paloma
URL:https://www.wildgoosespace.org.uk/event/womans-circle-5/
END:VEVENT
END:VCALENDAR