BEGIN:VCALENDAR
VERSION:2.0
PRODID:-//Wild Goose Space - ECPv6.15.20//NONSGML v1.0//EN
CALSCALE:GREGORIAN
METHOD:PUBLISH
X-ORIGINAL-URL:https://www.wildgoosespace.org.uk
X-WR-CALDESC:Events for Wild Goose Space
REFRESH-INTERVAL;VALUE=DURATION:PT1H
X-Robots-Tag:noindex
X-PUBLISHED-TTL:PT1H
BEGIN:VTIMEZONE
TZID:UTC
BEGIN:STANDARD
TZOFFSETFROM:+0000
TZOFFSETTO:+0000
TZNAME:UTC
DTSTART:20190101T000000
END:STANDARD
END:VTIMEZONE
BEGIN:VEVENT
DTSTART;TZID=UTC:20200108T100000
DTEND;TZID=UTC:20200108T110000
DTSTAMP:20260424T182522
CREATED:20200212T173931Z
LAST-MODIFIED:20200212T173931Z
UID:7914-1578477600-1578481200@www.wildgoosespace.org.uk
SUMMARY:Parent and Baby Yoga
DESCRIPTION:*Parent and Baby Yoga (for baby movers and up to 2 years old)*\n*10-11am*\n£9 per class pre-paid in block of 6-8 classes (term time only)\nThese yoga sessions are aimed for older babies to toddlers\, accompanied by\neither mum or dad. They are informal and fun\, with a real focus on\nimprovising and being “in the moment”\, leaving all our expectations\nbehind…\nEach time there’ll be a yoga nidra/relaxation and some sound work to ground\neveryone; accessible\, nurturing and strengthening yoga for your newly tired\nbody (tired in a different way than early days of parenting); and lovely\nways to connect mindfully with your baby and sharing some yoga fun together.\nNo previous experience of yoga needed.\nIf your child is older than 2\, I am happy to let you try one class to see\nhow it works for you both. Please contact me.\n*Pre-booking essential as spaces are limited*.\nTo book and for more info: www.earthmoonmala.com –\nmarinellabenelli@gmail.com – 07856125677
URL:https://www.wildgoosespace.org.uk/event/parent-baby-yoga-2/
END:VEVENT
BEGIN:VEVENT
DTSTART;TZID=UTC:20200108T190000
DTEND;TZID=UTC:20200108T210000
DTSTAMP:20260424T182522
CREATED:20200109T160836Z
LAST-MODIFIED:20200109T160836Z
UID:7721-1578510000-1578517200@www.wildgoosespace.org.uk
SUMMARY:Longchen Foundation
DESCRIPTION:Meditation with the Longchen Foundation. Contact Toby on Bristol@longchenfoundation.org 7:15 start. The Longchen Foundation is a Buddhist organisation practicing within the Dzogchen lineage of Tibetan Buddhism. Our Wednesday meetings are open to all whether Buddhist or not\, and there is no need to book. These meetings are informal in nature and involve a period of … Continue readingLongchen Foundation \nFind out more »
URL:https://www.wildgoosespace.org.uk/event/longchen-foundation-3/
END:VEVENT
END:VCALENDAR