BEGIN:VCALENDAR
VERSION:2.0
PRODID:-//Wild Goose Space - ECPv6.15.20//NONSGML v1.0//EN
CALSCALE:GREGORIAN
METHOD:PUBLISH
X-WR-CALNAME:Wild Goose Space
X-ORIGINAL-URL:https://www.wildgoosespace.org.uk
X-WR-CALDESC:Events for Wild Goose Space
REFRESH-INTERVAL;VALUE=DURATION:PT1H
X-Robots-Tag:noindex
X-PUBLISHED-TTL:PT1H
BEGIN:VTIMEZONE
TZID:UTC
BEGIN:STANDARD
TZOFFSETFROM:+0000
TZOFFSETTO:+0000
TZNAME:UTC
DTSTART:20180101T000000
END:STANDARD
END:VTIMEZONE
BEGIN:VEVENT
DTSTART;TZID=UTC:20191220T150000
DTEND;TZID=UTC:20191220T190000
DTSTAMP:20260424T154158
CREATED:20191128T150051Z
LAST-MODIFIED:20191128T150245Z
UID:7475-1576854000-1576868400@www.wildgoosespace.org.uk
SUMMARY:Many Minds Xmas Event
DESCRIPTION:Many Minds Charity \nOlivia Ware and Vicki Brown.
URL:https://www.wildgoosespace.org.uk/event/maany-minds-xmas-event/
END:VEVENT
END:VCALENDAR