BEGIN:VCALENDAR
VERSION:2.0
PRODID:-//Wild Goose Space - ECPv6.15.20//NONSGML v1.0//EN
CALSCALE:GREGORIAN
METHOD:PUBLISH
X-ORIGINAL-URL:https://www.wildgoosespace.org.uk
X-WR-CALDESC:Events for Wild Goose Space
REFRESH-INTERVAL;VALUE=DURATION:PT1H
X-Robots-Tag:noindex
X-PUBLISHED-TTL:PT1H
BEGIN:VTIMEZONE
TZID:UTC
BEGIN:STANDARD
TZOFFSETFROM:+0000
TZOFFSETTO:+0000
TZNAME:UTC
DTSTART:20180101T000000
END:STANDARD
END:VTIMEZONE
BEGIN:VEVENT
DTSTART;TZID=UTC:20191205T190000
DTEND;TZID=UTC:20191205T213000
DTSTAMP:20260424T154321
CREATED:20190509T102620Z
LAST-MODIFIED:20190509T102620Z
UID:6498-1575572400-1575581400@www.wildgoosespace.org.uk
SUMMARY:Reclaiming Your Sacred Ground
DESCRIPTION:Anna Grace Jacobs \nannaplay@hotmail.co.uk \nwww.annagracejacobs.com \n07809 886710
URL:https://www.wildgoosespace.org.uk/event/reclaiming-sacred-ground-3/
END:VEVENT
END:VCALENDAR