BEGIN:VCALENDAR
VERSION:2.0
PRODID:-//Wild Goose Space - ECPv6.15.20//NONSGML v1.0//EN
CALSCALE:GREGORIAN
METHOD:PUBLISH
X-ORIGINAL-URL:https://www.wildgoosespace.org.uk
X-WR-CALDESC:Events for Wild Goose Space
REFRESH-INTERVAL;VALUE=DURATION:PT1H
X-Robots-Tag:noindex
X-PUBLISHED-TTL:PT1H
BEGIN:VTIMEZONE
TZID:UTC
BEGIN:STANDARD
TZOFFSETFROM:+0000
TZOFFSETTO:+0000
TZNAME:UTC
DTSTART:20180101T000000
END:STANDARD
END:VTIMEZONE
BEGIN:VEVENT
DTSTART;TZID=UTC:20191101T123000
DTEND;TZID=UTC:20191101T163000
DTSTAMP:20260424T125833
CREATED:20190819T155044Z
LAST-MODIFIED:20190911T140310Z
UID:7065-1572611400-1572625800@www.wildgoosespace.org.uk
SUMMARY:Confederation of Co-operative Housing
DESCRIPTION:Confederation of Co-operative Housing \nJane Cameron \nLeah Eatwell coordinating
URL:https://www.wildgoosespace.org.uk/event/confederation-co-operative-housing/
END:VEVENT
BEGIN:VEVENT
DTSTART;TZID=UTC:20191101T164500
DTEND;TZID=UTC:20191101T184500
DTSTAMP:20260424T125833
CREATED:20190830T132334Z
LAST-MODIFIED:20190830T132334Z
UID:7181-1572626700-1572633900@www.wildgoosespace.org.uk
SUMMARY:Children's Party
DESCRIPTION:Children’s Party \nDaaisy Matinhouse.
URL:https://www.wildgoosespace.org.uk/event/childrens-party-19/
END:VEVENT
END:VCALENDAR