BEGIN:VCALENDAR
VERSION:2.0
PRODID:-//Wild Goose Space - ECPv6.15.20//NONSGML v1.0//EN
CALSCALE:GREGORIAN
METHOD:PUBLISH
X-WR-CALNAME:Wild Goose Space
X-ORIGINAL-URL:https://www.wildgoosespace.org.uk
X-WR-CALDESC:Events for Wild Goose Space
REFRESH-INTERVAL;VALUE=DURATION:PT1H
X-Robots-Tag:noindex
X-PUBLISHED-TTL:PT1H
BEGIN:VTIMEZONE
TZID:UTC
BEGIN:STANDARD
TZOFFSETFROM:+0000
TZOFFSETTO:+0000
TZNAME:UTC
DTSTART:20180101T000000
END:STANDARD
END:VTIMEZONE
BEGIN:VEVENT
DTSTART;TZID=UTC:20191027T093000
DTEND;TZID=UTC:20191027T163000
DTSTAMP:20260424T142011
CREATED:20190305T130448Z
LAST-MODIFIED:20190913T132517Z
UID:6114-1572168600-1572193800@www.wildgoosespace.org.uk
SUMMARY:Imaganitive Water Colour Workshop with Emma Burleigh
DESCRIPTION:10.30 – 4 pm \n\n\n\n\n\n\nUnlock your creativity! Join award winning artist and qualified teacher\, Emma Burleigh\, for a day of exploration and playful painting. \n \nDelight in ‘wonderful failures and terrible successes!’\n \nFind new ways to loosen up with the exquisite medium of watercolour through fun and supportive exercises.\n \nNo need to have any experience\, ‘talent’ or imaginative ideas on arrival…relax in a safe and non judgemental environment.\n \nDevelop confidence to paint more expressively and intuitively.\n \nGive yourself permission to enjoy the unexpected\, to have fun and to make ‘mistakes’. \n \nLearn or refresh your watercolour skills with guidance on how to paint washes\, wet in wet\, and glazes.\n \nFeel supported to try out fresh and imaginative ways to express your memories\, moods\, dreams and ideas in this luminous medium.\n \n\n\n\n\nSuitable for beginners and more experienced artists looking for fresh approaches to their painting practice.\n \n£60 (or £50 supported rate). All art materials and tea included.\n\n \n\n\n\n\n\n\n\nFor more info and to book a place on this workshop please email Emma at emmaburleigh1977@yahoo.co.uk.\n \nFor more info about Emma visit her website www.emmaburleigh.com.
URL:https://www.wildgoosespace.org.uk/event/water-colours-emma/
END:VEVENT
BEGIN:VEVENT
DTSTART;TZID=UTC:20191027T190000
DTEND;TZID=UTC:20191027T210000
DTSTAMP:20260424T142011
CREATED:20191022T141130Z
LAST-MODIFIED:20191022T141130Z
UID:7407-1572202800-1572210000@www.wildgoosespace.org.uk
SUMMARY:TRE Event
DESCRIPTION:Linda Johnson
URL:https://www.wildgoosespace.org.uk/event/tre-event-38/
END:VEVENT
END:VCALENDAR