BEGIN:VCALENDAR
VERSION:2.0
PRODID:-//Wild Goose Space - ECPv6.15.20//NONSGML v1.0//EN
CALSCALE:GREGORIAN
METHOD:PUBLISH
X-ORIGINAL-URL:https://www.wildgoosespace.org.uk
X-WR-CALDESC:Events for Wild Goose Space
REFRESH-INTERVAL;VALUE=DURATION:PT1H
X-Robots-Tag:noindex
X-PUBLISHED-TTL:PT1H
BEGIN:VTIMEZONE
TZID:UTC
BEGIN:STANDARD
TZOFFSETFROM:+0000
TZOFFSETTO:+0000
TZNAME:UTC
DTSTART:20180101T000000
END:STANDARD
END:VTIMEZONE
BEGIN:VEVENT
DTSTART;TZID=UTC:20190926T190000
DTEND;TZID=UTC:20190926T213000
DTSTAMP:20260424T165812
CREATED:20181120T160754Z
LAST-MODIFIED:20181120T160754Z
UID:5502-1569524400-1569533400@www.wildgoosespace.org.uk
SUMMARY:Yoga With Rachel
DESCRIPTION:Yoga With Rachel \n  \nyogaforthesoul@hotmail.co.uk
URL:https://www.wildgoosespace.org.uk/event/yoga-with-rachel-14/
END:VEVENT
END:VCALENDAR