BEGIN:VCALENDAR
VERSION:2.0
PRODID:-//Wild Goose Space - ECPv6.15.20//NONSGML v1.0//EN
CALSCALE:GREGORIAN
METHOD:PUBLISH
X-ORIGINAL-URL:https://www.wildgoosespace.org.uk
X-WR-CALDESC:Events for Wild Goose Space
REFRESH-INTERVAL;VALUE=DURATION:PT1H
X-Robots-Tag:noindex
X-PUBLISHED-TTL:PT1H
BEGIN:VTIMEZONE
TZID:UTC
BEGIN:STANDARD
TZOFFSETFROM:+0000
TZOFFSETTO:+0000
TZNAME:UTC
DTSTART:20180101T000000
END:STANDARD
END:VTIMEZONE
BEGIN:VEVENT
DTSTART;TZID=UTC:20190918T174500
DTEND;TZID=UTC:20190918T184500
DTSTAMP:20260424T113544
CREATED:20190912T161556Z
LAST-MODIFIED:20190912T162435Z
UID:7260-1568828700-1568832300@www.wildgoosespace.org.uk
SUMMARY:Tensegrity Class
DESCRIPTION:Tensegrity with Ana Sanchez \nContact \nana.a.sanchez7@gmail.com \n  \nAna Sánchez is a Tensegrity®Facilitator-in-Training Level 3. Certified Tensegrity® Facilitator Level 2 in 2018. \nAna has been practicing Tensegrity® for 20 years\, and has attended multiple Cleargreen led Tensegrity® Workshops and classes since 2005. She has led a Tensegrity® Practice Group in Bristol for 6 years and also given online Tensegrity® classes. She has ample experience in practicing and facilitating Tensegrity® as well as a deep passion for sharing this powerful ancient Mexican Seers knowledge. \nShe holds a Business Studies Degree from the University of Salamanca\, Spain. She has worked in various managerial roles using WCM continuous improvement concepts and techniques. She works as a Spanish tutor for adult education. \n 
URL:https://www.wildgoosespace.org.uk/event/tensegrity-class/
END:VEVENT
END:VCALENDAR