BEGIN:VCALENDAR
VERSION:2.0
PRODID:-//Wild Goose Space - ECPv6.15.20//NONSGML v1.0//EN
CALSCALE:GREGORIAN
METHOD:PUBLISH
X-WR-CALNAME:Wild Goose Space
X-ORIGINAL-URL:https://www.wildgoosespace.org.uk
X-WR-CALDESC:Events for Wild Goose Space
REFRESH-INTERVAL;VALUE=DURATION:PT1H
X-Robots-Tag:noindex
X-PUBLISHED-TTL:PT1H
BEGIN:VTIMEZONE
TZID:UTC
BEGIN:STANDARD
TZOFFSETFROM:+0000
TZOFFSETTO:+0000
TZNAME:UTC
DTSTART:20180101T000000
END:STANDARD
END:VTIMEZONE
BEGIN:VEVENT
DTSTART;TZID=UTC:20190906T190000
DTEND;TZID=UTC:20190906T210000
DTSTAMP:20260424T113323
CREATED:20190815T093507Z
LAST-MODIFIED:20190815T093507Z
UID:7060-1567796400-1567803600@www.wildgoosespace.org.uk
SUMMARY:AVAG AGM
DESCRIPTION:AVAG AGM
URL:https://www.wildgoosespace.org.uk/event/avag-agm/
END:VEVENT
END:VCALENDAR