BEGIN:VCALENDAR
VERSION:2.0
PRODID:-//Wild Goose Space - ECPv6.15.20//NONSGML v1.0//EN
CALSCALE:GREGORIAN
METHOD:PUBLISH
X-ORIGINAL-URL:https://www.wildgoosespace.org.uk
X-WR-CALDESC:Events for Wild Goose Space
REFRESH-INTERVAL;VALUE=DURATION:PT1H
X-Robots-Tag:noindex
X-PUBLISHED-TTL:PT1H
BEGIN:VTIMEZONE
TZID:UTC
BEGIN:STANDARD
TZOFFSETFROM:+0000
TZOFFSETTO:+0000
TZNAME:UTC
DTSTART:20180101T000000
END:STANDARD
END:VTIMEZONE
BEGIN:VEVENT
DTSTART;TZID=UTC:20190905T094500
DTEND;TZID=UTC:20190905T110000
DTSTAMP:20260424T113542
CREATED:20190728T111900Z
LAST-MODIFIED:20190728T111900Z
UID:6955-1567676700-1567681200@www.wildgoosespace.org.uk
SUMMARY:Mindful Yoga 4 All
DESCRIPTION:Mindful Yoga 4 All. \nClaire-Louise  Symonds \nmindfulyoga4all@gmail.com
URL:https://www.wildgoosespace.org.uk/event/mindful-yoga-4-8/
END:VEVENT
BEGIN:VEVENT
DTSTART;TZID=UTC:20190905T111500
DTEND;TZID=UTC:20190905T133000
DTSTAMP:20260424T113542
CREATED:20190728T112934Z
LAST-MODIFIED:20190728T112934Z
UID:6971-1567682100-1567690200@www.wildgoosespace.org.uk
SUMMARY:BYOB Choir
DESCRIPTION:BYOB Choir With Julia Turner. \nContact Julia \njuliabfturner@gmail.com
URL:https://www.wildgoosespace.org.uk/event/byob-choir-25/
END:VEVENT
BEGIN:VEVENT
DTSTART;TZID=UTC:20190905T140000
DTEND;TZID=UTC:20190905T150000
DTSTAMP:20260424T113542
CREATED:20190903T105107Z
LAST-MODIFIED:20190903T105301Z
UID:7198-1567692000-1567695600@www.wildgoosespace.org.uk
SUMMARY:Ruth Price
DESCRIPTION:Rith Price \nPrivate hire.
URL:https://www.wildgoosespace.org.uk/event/ruth-price-2/
END:VEVENT
BEGIN:VEVENT
DTSTART;TZID=UTC:20190905T153000
DTEND;TZID=UTC:20190905T163000
DTSTAMP:20260424T113542
CREATED:20190728T113301Z
LAST-MODIFIED:20190728T113301Z
UID:6993-1567697400-1567701000@www.wildgoosespace.org.uk
SUMMARY:Family Yoga
DESCRIPTION:New Family Yoga Class with Claire Louise Symonds 3.30pm to 4.30pm Thursdays…. \nSuitable for children 2 -12 years to attend with parent/carer
URL:https://www.wildgoosespace.org.uk/event/family-yoga-2/
END:VEVENT
BEGIN:VEVENT
DTSTART;TZID=UTC:20190905T190000
DTEND;TZID=UTC:20190905T213000
DTSTAMP:20260424T113542
CREATED:20190509T101912Z
LAST-MODIFIED:20190509T101912Z
UID:6493-1567710000-1567719000@www.wildgoosespace.org.uk
SUMMARY:Reclaiming Your Sacred Ground
DESCRIPTION:Anna Grace Jacobs \nannaplay@hotmail.co.uk \nwww.annagracejacobs.com \n07809 886710
URL:https://www.wildgoosespace.org.uk/event/reclaiming-sacred-ground/
END:VEVENT
END:VCALENDAR