BEGIN:VCALENDAR
VERSION:2.0
PRODID:-//Wild Goose Space - ECPv6.15.20//NONSGML v1.0//EN
CALSCALE:GREGORIAN
METHOD:PUBLISH
X-ORIGINAL-URL:https://www.wildgoosespace.org.uk
X-WR-CALDESC:Events for Wild Goose Space
REFRESH-INTERVAL;VALUE=DURATION:PT1H
X-Robots-Tag:noindex
X-PUBLISHED-TTL:PT1H
BEGIN:VTIMEZONE
TZID:UTC
BEGIN:STANDARD
TZOFFSETFROM:+0000
TZOFFSETTO:+0000
TZNAME:UTC
DTSTART:20180101T000000
END:STANDARD
END:VTIMEZONE
BEGIN:VEVENT
DTSTART;TZID=UTC:20190904T130000
DTEND;TZID=UTC:20190904T143000
DTSTAMP:20260424T113552
CREATED:20190728T111002Z
LAST-MODIFIED:20190728T111002Z
UID:6922-1567602000-1567607400@www.wildgoosespace.org.uk
SUMMARY:TRE Event
DESCRIPTION:TRE Event wiwth Linda Johnson
URL:https://www.wildgoosespace.org.uk/event/tre-event-33/
END:VEVENT
BEGIN:VEVENT
DTSTART;TZID=UTC:20190904T190000
DTEND;TZID=UTC:20190904T210000
DTSTAMP:20260424T113552
CREATED:20190722T113746Z
LAST-MODIFIED:20190728T111231Z
UID:6737-1567623600-1567630800@www.wildgoosespace.org.uk
SUMMARY:Longchen Foundation
DESCRIPTION:Meditation with the Longchen Foundation. Contact Toby on Bristol@longchenfoundation.org 7:15 start. The Longchen Foundation is a Buddhist organisation practicing within the Dzogchen lineage of Tibetan Buddhism. Our Wednesday meetings are open to all whether Buddhist or not\, and there is no need to book. These meetings are informal in nature and involve a period of … Continue reading
URL:https://www.wildgoosespace.org.uk/event/longchen-foundation-2/
END:VEVENT
END:VCALENDAR