BEGIN:VCALENDAR
VERSION:2.0
PRODID:-//Wild Goose Space - ECPv6.15.20//NONSGML v1.0//EN
CALSCALE:GREGORIAN
METHOD:PUBLISH
X-ORIGINAL-URL:https://www.wildgoosespace.org.uk
X-WR-CALDESC:Events for Wild Goose Space
REFRESH-INTERVAL;VALUE=DURATION:PT1H
X-Robots-Tag:noindex
X-PUBLISHED-TTL:PT1H
BEGIN:VTIMEZONE
TZID:UTC
BEGIN:STANDARD
TZOFFSETFROM:+0000
TZOFFSETTO:+0000
TZNAME:UTC
DTSTART:20180101T000000
END:STANDARD
END:VTIMEZONE
BEGIN:VEVENT
DTSTART;TZID=UTC:20190903T113000
DTEND;TZID=UTC:20190903T130000
DTSTAMP:20260424T113542
CREATED:20190727T121231Z
LAST-MODIFIED:20190727T121231Z
UID:6855-1567510200-1567515600@www.wildgoosespace.org.uk
SUMMARY:Embodied Presence
DESCRIPTION:Embodied Presence with Lee
URL:https://www.wildgoosespace.org.uk/event/embodied-presence-2/
END:VEVENT
BEGIN:VEVENT
DTSTART;TZID=UTC:20190903T143000
DTEND;TZID=UTC:20190903T170000
DTSTAMP:20260424T113542
CREATED:20190727T121544Z
LAST-MODIFIED:20190727T121544Z
UID:6872-1567521000-1567530000@www.wildgoosespace.org.uk
SUMMARY:BYOB Choir
DESCRIPTION:BYOB Choir With Julia Turner. \nContact Julia          juliabfturner@gmail.com
URL:https://www.wildgoosespace.org.uk/event/byob-choir-24/
END:VEVENT
BEGIN:VEVENT
DTSTART;TZID=UTC:20190903T180000
DTEND;TZID=UTC:20190903T194500
DTSTAMP:20260424T113542
CREATED:20190727T122102Z
LAST-MODIFIED:20190819T161048Z
UID:6889-1567533600-1567539900@www.wildgoosespace.org.uk
SUMMARY:Yoga with Sarah
DESCRIPTION:Yoga with Sarah Waterfield. Contact Sarah   sarah@thewholenessofyoga.com \nFind out more »
URL:https://www.wildgoosespace.org.uk/event/yoga-with-sarah-10/
END:VEVENT
BEGIN:VEVENT
DTSTART;TZID=UTC:20190903T200000
DTEND;TZID=UTC:20190903T210000
DTSTAMP:20260424T113542
CREATED:20190727T120930Z
LAST-MODIFIED:20190727T121002Z
UID:6822-1567540800-1567544400@www.wildgoosespace.org.uk
SUMMARY:Pilates with Ula
DESCRIPTION:Join Ula for her weekly Pilates Sessions Phone:07733 182538 \nFind out more »
URL:https://www.wildgoosespace.org.uk/event/pilates-withula/
END:VEVENT
END:VCALENDAR