BEGIN:VCALENDAR
VERSION:2.0
PRODID:-//Wild Goose Space - ECPv6.15.20//NONSGML v1.0//EN
CALSCALE:GREGORIAN
METHOD:PUBLISH
X-WR-CALNAME:Wild Goose Space
X-ORIGINAL-URL:https://www.wildgoosespace.org.uk
X-WR-CALDESC:Events for Wild Goose Space
REFRESH-INTERVAL;VALUE=DURATION:PT1H
X-Robots-Tag:noindex
X-PUBLISHED-TTL:PT1H
BEGIN:VTIMEZONE
TZID:UTC
BEGIN:STANDARD
TZOFFSETFROM:+0000
TZOFFSETTO:+0000
TZNAME:UTC
DTSTART:20180101T000000
END:STANDARD
END:VTIMEZONE
BEGIN:VEVENT
DTSTART;TZID=UTC:20190820T180000
DTEND;TZID=UTC:20190820T190000
DTSTAMP:20260424T101701
CREATED:20190819T092421Z
LAST-MODIFIED:20190819T092421Z
UID:7063-1566324000-1566327600@www.wildgoosespace.org.uk
SUMMARY:Pilates with Ula
DESCRIPTION:Ula Collins
URL:https://www.wildgoosespace.org.uk/event/pilates-with-ula-12/
END:VEVENT
END:VCALENDAR