BEGIN:VCALENDAR
VERSION:2.0
PRODID:-//Wild Goose Space - ECPv6.15.20//NONSGML v1.0//EN
CALSCALE:GREGORIAN
METHOD:PUBLISH
X-ORIGINAL-URL:https://www.wildgoosespace.org.uk
X-WR-CALDESC:Events for Wild Goose Space
REFRESH-INTERVAL;VALUE=DURATION:PT1H
X-Robots-Tag:noindex
X-PUBLISHED-TTL:PT1H
BEGIN:VTIMEZONE
TZID:UTC
BEGIN:STANDARD
TZOFFSETFROM:+0000
TZOFFSETTO:+0000
TZNAME:UTC
DTSTART:20180101T000000
END:STANDARD
END:VTIMEZONE
BEGIN:VEVENT
DTSTART;TZID=UTC:20190604T113000
DTEND;TZID=UTC:20190604T130000
DTSTAMP:20260424T062909
CREATED:20190701T164454Z
LAST-MODIFIED:20190701T164635Z
UID:6667-1559647800-1559653200@www.wildgoosespace.org.uk
SUMMARY:Embodied Presence
DESCRIPTION:Embodied Presence with Lee
URL:https://www.wildgoosespace.org.uk/event/embodied-presence/
END:VEVENT
BEGIN:VEVENT
DTSTART;TZID=UTC:20190604T143000
DTEND;TZID=UTC:20190604T170000
DTSTAMP:20260424T062909
CREATED:20190401T141412Z
LAST-MODIFIED:20190604T113607Z
UID:6314-1559658600-1559667600@www.wildgoosespace.org.uk
SUMMARY:BYOB Choir
DESCRIPTION:Bring Your Own Baby choir\n\n3:45 pm – 5:00 pm Tuesdays…….Every week during Term time\n\n\n\n\nBYOB Choir With Julia Turner. \nContact Julia          juliabfturner@gmail.com
URL:https://www.wildgoosespace.org.uk/event/byob-choir-22/
END:VEVENT
END:VCALENDAR