BEGIN:VCALENDAR
VERSION:2.0
PRODID:-//Wild Goose Space - ECPv6.15.20//NONSGML v1.0//EN
CALSCALE:GREGORIAN
METHOD:PUBLISH
X-ORIGINAL-URL:https://www.wildgoosespace.org.uk
X-WR-CALDESC:Events for Wild Goose Space
REFRESH-INTERVAL;VALUE=DURATION:PT1H
X-Robots-Tag:noindex
X-PUBLISHED-TTL:PT1H
BEGIN:VTIMEZONE
TZID:UTC
BEGIN:STANDARD
TZOFFSETFROM:+0000
TZOFFSETTO:+0000
TZNAME:UTC
DTSTART:20180101T000000
END:STANDARD
END:VTIMEZONE
BEGIN:VEVENT
DTSTART;TZID=UTC:20190601T110000
DTEND;TZID=UTC:20190602T160000
DTSTAMP:20260424T050601
CREATED:20190517T091802Z
LAST-MODIFIED:20190517T091802Z
UID:6534-1559386800-1559491200@www.wildgoosespace.org.uk
SUMMARY:Private Hire
DESCRIPTION:Ellie Elstrob-Wardle
URL:https://www.wildgoosespace.org.uk/event/private-hire-86/
END:VEVENT
BEGIN:VEVENT
DTSTART;TZID=UTC:20190602T193000
DTEND;TZID=UTC:20190602T213000
DTSTAMP:20260424T050601
CREATED:20190507T114717Z
LAST-MODIFIED:20190507T114717Z
UID:6483-1559503800-1559511000@www.wildgoosespace.org.uk
SUMMARY:Private Hire - Linda
DESCRIPTION:Linda Johnson
URL:https://www.wildgoosespace.org.uk/event/private-hire-linda/
END:VEVENT
END:VCALENDAR