BEGIN:VCALENDAR
VERSION:2.0
PRODID:-//Wild Goose Space - ECPv6.15.20//NONSGML v1.0//EN
CALSCALE:GREGORIAN
METHOD:PUBLISH
X-WR-CALNAME:Wild Goose Space
X-ORIGINAL-URL:https://www.wildgoosespace.org.uk
X-WR-CALDESC:Events for Wild Goose Space
REFRESH-INTERVAL;VALUE=DURATION:PT1H
X-Robots-Tag:noindex
X-PUBLISHED-TTL:PT1H
BEGIN:VTIMEZONE
TZID:UTC
BEGIN:STANDARD
TZOFFSETFROM:+0000
TZOFFSETTO:+0000
TZNAME:UTC
DTSTART:20180101T000000
END:STANDARD
END:VTIMEZONE
BEGIN:VEVENT
DTSTART;TZID=UTC:20190425T140000
DTEND;TZID=UTC:20190502T150000
DTSTAMP:20260424T034807
CREATED:20190425T092547Z
LAST-MODIFIED:20190425T092547Z
UID:6433-1556200800-1556809200@www.wildgoosespace.org.uk
SUMMARY:Private Hire - Ruth
DESCRIPTION:Ruth Price
URL:https://www.wildgoosespace.org.uk/event/private-hire-ruth-2/
END:VEVENT
BEGIN:VEVENT
DTSTART;TZID=UTC:20190429T103000
DTEND;TZID=UTC:20190429T130000
DTSTAMP:20260424T034807
CREATED:20190331T153405Z
LAST-MODIFIED:20190404T104533Z
UID:6288-1556533800-1556542800@www.wildgoosespace.org.uk
SUMMARY:Dance Mums
DESCRIPTION:Dance Mums \n\nNEW LOCATION:\nNorth Bristol @ Wild Goose Space\n228 Mina Rd\, Bristol BS2 9YP\n\nMondays 10:30am-11:15am\nPLUS NEW CLASS ADDED – 12 to 12.45pm\n\nSvetlana Ovsyannikova (Woodgate) \n\nOvDa Managing Director/Dance teacher/Choreographer/Performer/Dancer\nwww.ovdadance.com\n\n07794 111608
URL:https://www.wildgoosespace.org.uk/event/dance-mums-10/
END:VEVENT
BEGIN:VEVENT
DTSTART;TZID=UTC:20190429T171500
DTEND;TZID=UTC:20190429T191500
DTSTAMP:20260424T034807
CREATED:20190320T182329Z
LAST-MODIFIED:20190320T182329Z
UID:6186-1556558100-1556565300@www.wildgoosespace.org.uk
SUMMARY:Pilate With Paula
DESCRIPTION:Pilates with Paula Whatman. \n5.15pm to 6.15pm        and 6.15pm to 7.15pm \nEVERY MONDAY TERM TIME
URL:https://www.wildgoosespace.org.uk/event/pilate-with-paula-2/
END:VEVENT
BEGIN:VEVENT
DTSTART;TZID=UTC:20190429T193000
DTEND;TZID=UTC:20190429T213000
DTSTAMP:20260424T034807
CREATED:20190331T152749Z
LAST-MODIFIED:20190331T152938Z
UID:6280-1556566200-1556573400@www.wildgoosespace.org.uk
SUMMARY:Georgian Choir with Anthony
DESCRIPTION:Georgian Choir  with Anthony Johnson. \nEvery Monday evening 7.30pm to 9.30pm during Term time. \nContact Anthony 07950 052100
URL:https://www.wildgoosespace.org.uk/event/georgian-choir-anthony-2/
END:VEVENT
END:VCALENDAR