BEGIN:VCALENDAR
VERSION:2.0
PRODID:-//Wild Goose Space - ECPv6.15.20//NONSGML v1.0//EN
CALSCALE:GREGORIAN
METHOD:PUBLISH
X-WR-CALNAME:Wild Goose Space
X-ORIGINAL-URL:https://www.wildgoosespace.org.uk
X-WR-CALDESC:Events for Wild Goose Space
REFRESH-INTERVAL;VALUE=DURATION:PT1H
X-Robots-Tag:noindex
X-PUBLISHED-TTL:PT1H
BEGIN:VTIMEZONE
TZID:UTC
BEGIN:STANDARD
TZOFFSETFROM:+0000
TZOFFSETTO:+0000
TZNAME:UTC
DTSTART:20180101T000000
END:STANDARD
END:VTIMEZONE
BEGIN:VEVENT
DTSTART;TZID=UTC:20190425T140000
DTEND;TZID=UTC:20190502T150000
DTSTAMP:20260424T034837
CREATED:20190425T092547Z
LAST-MODIFIED:20190425T092547Z
UID:6433-1556200800-1556809200@www.wildgoosespace.org.uk
SUMMARY:Private Hire - Ruth
DESCRIPTION:Ruth Price
URL:https://www.wildgoosespace.org.uk/event/private-hire-ruth-2/
END:VEVENT
BEGIN:VEVENT
DTSTART;TZID=UTC:20190427T093000
DTEND;TZID=UTC:20190427T130000
DTSTAMP:20260424T034837
CREATED:20170708T131619Z
LAST-MODIFIED:20170708T131619Z
UID:2606-1556357400-1556370000@www.wildgoosespace.org.uk
SUMMARY:Caroline Reid Yoga
DESCRIPTION:Caroline Reid Yoga \nContact Caroline \ncarolinereidyoga.com \n07570 507494
URL:https://www.wildgoosespace.org.uk/event/caroline-reid-yoga-26/
END:VEVENT
BEGIN:VEVENT
DTSTART;TZID=UTC:20190427T133000
DTEND;TZID=UTC:20190427T160000
DTSTAMP:20260424T034837
CREATED:20190327T102021Z
LAST-MODIFIED:20190327T102851Z
UID:6196-1556371800-1556380800@www.wildgoosespace.org.uk
SUMMARY:Children's Party
DESCRIPTION:Daisy Mattinhouse
URL:https://www.wildgoosespace.org.uk/event/childrens-party-16/
END:VEVENT
BEGIN:VEVENT
DTSTART;TZID=UTC:20190427T170000
DTEND;TZID=UTC:20190427T230000
DTSTAMP:20260424T034837
CREATED:20190112T160555Z
LAST-MODIFIED:20190112T160555Z
UID:5830-1556384400-1556406000@www.wildgoosespace.org.uk
SUMMARY:Private Hire
DESCRIPTION:Gary S
URL:https://www.wildgoosespace.org.uk/event/private-hire-79/
END:VEVENT
END:VCALENDAR