BEGIN:VCALENDAR
VERSION:2.0
PRODID:-//Wild Goose Space - ECPv6.15.20//NONSGML v1.0//EN
CALSCALE:GREGORIAN
METHOD:PUBLISH
X-WR-CALNAME:Wild Goose Space
X-ORIGINAL-URL:https://www.wildgoosespace.org.uk
X-WR-CALDESC:Events for Wild Goose Space
REFRESH-INTERVAL;VALUE=DURATION:PT1H
X-Robots-Tag:noindex
X-PUBLISHED-TTL:PT1H
BEGIN:VTIMEZONE
TZID:UTC
BEGIN:STANDARD
TZOFFSETFROM:+0000
TZOFFSETTO:+0000
TZNAME:UTC
DTSTART:20180101T000000
END:STANDARD
END:VTIMEZONE
BEGIN:VEVENT
DTSTART;TZID=UTC:20190425T094500
DTEND;TZID=UTC:20190425T110000
DTSTAMP:20260423T235051
CREATED:20190410T085810Z
LAST-MODIFIED:20190410T085810Z
UID:6388-1556185500-1556190000@www.wildgoosespace.org.uk
SUMMARY:Mindful Yoga 4 All
DESCRIPTION:Mindful Yoga 4 All. \nClaire-Louise  Symonds \nmindfulyoga4all@gmail.com
URL:https://www.wildgoosespace.org.uk/event/mindful-yoga-4-7/
END:VEVENT
BEGIN:VEVENT
DTSTART;TZID=UTC:20190425T111500
DTEND;TZID=UTC:20190425T133000
DTSTAMP:20260423T235051
CREATED:20190410T090408Z
LAST-MODIFIED:20190410T090408Z
UID:6402-1556190900-1556199000@www.wildgoosespace.org.uk
SUMMARY:BYOB Choir
DESCRIPTION:BYOB Choir With Julia Turner. \nContact Julia \njuliabfturner@gmail.com
URL:https://www.wildgoosespace.org.uk/event/byob-choir-23/
END:VEVENT
BEGIN:VEVENT
DTSTART;TZID=UTC:20190425T140000
DTEND;TZID=UTC:20190502T150000
DTSTAMP:20260423T235051
CREATED:20190425T092547Z
LAST-MODIFIED:20190425T092547Z
UID:6433-1556200800-1556809200@www.wildgoosespace.org.uk
SUMMARY:Private Hire - Ruth
DESCRIPTION:Ruth Price
URL:https://www.wildgoosespace.org.uk/event/private-hire-ruth-2/
END:VEVENT
BEGIN:VEVENT
DTSTART;TZID=UTC:20190425T153000
DTEND;TZID=UTC:20190425T163000
DTSTAMP:20260423T235051
CREATED:20190217T175105Z
LAST-MODIFIED:20190217T175105Z
UID:6064-1556206200-1556209800@www.wildgoosespace.org.uk
SUMMARY:Family Yoga with Claire Louise
DESCRIPTION:New Family Yoga Class with Claire Louise Symonds 3.30pm to 4.30pm Thursdays…. \nSuitable for children 2 -12 years to attend with parent/carer
URL:https://www.wildgoosespace.org.uk/event/family-yoga-claire-louise/
END:VEVENT
BEGIN:VEVENT
DTSTART;TZID=UTC:20190425T164500
DTEND;TZID=UTC:20190425T174500
DTSTAMP:20260423T235051
CREATED:20190426T151628Z
LAST-MODIFIED:20190426T151628Z
UID:6452-1556210700-1556214300@www.wildgoosespace.org.uk
SUMMARY:Break Dancing Class
DESCRIPTION:Our brand new weekly classes aim to inspire creativity and encourage self expression through the original street dance\, Breaking…. 4.15pm to 5.15pm Thursdays\, weekly starting 8th November 2018.     For Booking and more information Contact Sam Amos: 07958 940041 participatipon@trashdollys.com
URL:https://www.wildgoosespace.org.uk/event/break-dancing-class/
END:VEVENT
BEGIN:VEVENT
DTSTART;TZID=UTC:20190425T190000
DTEND;TZID=UTC:20190425T213000
DTSTAMP:20260423T235051
CREATED:20180605T154409Z
LAST-MODIFIED:20180605T154409Z
UID:4576-1556218800-1556227800@www.wildgoosespace.org.uk
SUMMARY:Opening to the Beloved
DESCRIPTION:Opening to the Beloved \nannaplay@hotmil.co.uk
URL:https://www.wildgoosespace.org.uk/event/opening-to-the-beloved-17/
END:VEVENT
END:VCALENDAR