BEGIN:VCALENDAR
VERSION:2.0
PRODID:-//Wild Goose Space - ECPv6.15.20//NONSGML v1.0//EN
CALSCALE:GREGORIAN
METHOD:PUBLISH
X-ORIGINAL-URL:https://www.wildgoosespace.org.uk
X-WR-CALDESC:Events for Wild Goose Space
REFRESH-INTERVAL;VALUE=DURATION:PT1H
X-Robots-Tag:noindex
X-PUBLISHED-TTL:PT1H
BEGIN:VTIMEZONE
TZID:UTC
BEGIN:STANDARD
TZOFFSETFROM:+0000
TZOFFSETTO:+0000
TZNAME:UTC
DTSTART:20180101T000000
END:STANDARD
END:VTIMEZONE
BEGIN:VEVENT
DTSTART;TZID=UTC:20190423T143000
DTEND;TZID=UTC:20190423T170000
DTSTAMP:20260424T034917
CREATED:20190401T115307Z
LAST-MODIFIED:20190401T141212Z
UID:6303-1556029800-1556038800@www.wildgoosespace.org.uk
SUMMARY:BYOB Choir
DESCRIPTION:Bring Your Own Baby choir\n\n3:45 pm – 5:00 pm Tuesdays…….Every week during Term time\n\n\n\n\nBYOB Choir With Julia Turner. \nContact Julia          juliabfturner@gmail.com
URL:https://www.wildgoosespace.org.uk/event/byob-choir-21/
END:VEVENT
BEGIN:VEVENT
DTSTART;TZID=UTC:20190423T180000
DTEND;TZID=UTC:20190423T194500
DTSTAMP:20260424T034917
CREATED:20190401T141757Z
LAST-MODIFIED:20190401T141757Z
UID:6322-1556042400-1556048700@www.wildgoosespace.org.uk
SUMMARY:Yoga With sarah
DESCRIPTION:Yoga with Sarah Waterfield. Contact Sarah   sarah@thewholenessofyoga.com
URL:https://www.wildgoosespace.org.uk/event/yoga-with-sarah-9/
END:VEVENT
BEGIN:VEVENT
DTSTART;TZID=UTC:20190423T200000
DTEND;TZID=UTC:20190423T210000
DTSTAMP:20260424T034917
CREATED:20190401T142051Z
LAST-MODIFIED:20190501T114338Z
UID:6337-1556049600-1556053200@www.wildgoosespace.org.uk
SUMMARY:Pilates with Ula
DESCRIPTION:Join Ula for her weekly Pilates Sessions Phone:07733 182538
URL:https://www.wildgoosespace.org.uk/event/pilates-with-ula-11/
END:VEVENT
END:VCALENDAR