BEGIN:VCALENDAR
VERSION:2.0
PRODID:-//Wild Goose Space - ECPv6.15.20//NONSGML v1.0//EN
CALSCALE:GREGORIAN
METHOD:PUBLISH
X-ORIGINAL-URL:https://www.wildgoosespace.org.uk
X-WR-CALDESC:Events for Wild Goose Space
REFRESH-INTERVAL;VALUE=DURATION:PT1H
X-Robots-Tag:noindex
X-PUBLISHED-TTL:PT1H
BEGIN:VTIMEZONE
TZID:UTC
BEGIN:STANDARD
TZOFFSETFROM:+0000
TZOFFSETTO:+0000
TZNAME:UTC
DTSTART:20180101T000000
END:STANDARD
END:VTIMEZONE
BEGIN:VEVENT
DTSTART;TZID=UTC:20190413T090000
DTEND;TZID=UTC:20190413T170000
DTSTAMP:20260424T034916
CREATED:20180922T173018Z
LAST-MODIFIED:20180922T173018Z
UID:5300-1555146000-1555174800@www.wildgoosespace.org.uk
SUMMARY:Andrea
DESCRIPTION:Andrea Newman
URL:https://www.wildgoosespace.org.uk/event/andrea/
END:VEVENT
BEGIN:VEVENT
DTSTART;TZID=UTC:20190413T180000
DTEND;TZID=UTC:20190413T223000
DTSTAMP:20260424T034917
CREATED:20190307T162446Z
LAST-MODIFIED:20190307T162446Z
UID:6142-1555178400-1555194600@www.wildgoosespace.org.uk
SUMMARY:Trance Dance
DESCRIPTION:Linda
URL:https://www.wildgoosespace.org.uk/event/trance-dance-2/
END:VEVENT
END:VCALENDAR