BEGIN:VCALENDAR
VERSION:2.0
PRODID:-//Wild Goose Space - ECPv6.15.20//NONSGML v1.0//EN
CALSCALE:GREGORIAN
METHOD:PUBLISH
X-WR-CALNAME:Wild Goose Space
X-ORIGINAL-URL:https://www.wildgoosespace.org.uk
X-WR-CALDESC:Events for Wild Goose Space
REFRESH-INTERVAL;VALUE=DURATION:PT1H
X-Robots-Tag:noindex
X-PUBLISHED-TTL:PT1H
BEGIN:VTIMEZONE
TZID:UTC
BEGIN:STANDARD
TZOFFSETFROM:+0000
TZOFFSETTO:+0000
TZNAME:UTC
DTSTART:20180101T000000
END:STANDARD
END:VTIMEZONE
BEGIN:VEVENT
DTSTART;TZID=UTC:20190409T113000
DTEND;TZID=UTC:20190409T130000
DTSTAMP:20260424T034830
CREATED:20190401T114950Z
LAST-MODIFIED:20190401T114950Z
UID:6294-1554809400-1554814800@www.wildgoosespace.org.uk
SUMMARY:Embodied Presence with Lee
DESCRIPTION:Embodied Presence with Lee
URL:https://www.wildgoosespace.org.uk/event/embodied-presence-lee-3/
END:VEVENT
END:VCALENDAR