BEGIN:VCALENDAR
VERSION:2.0
PRODID:-//Wild Goose Space - ECPv6.15.20//NONSGML v1.0//EN
CALSCALE:GREGORIAN
METHOD:PUBLISH
X-ORIGINAL-URL:https://www.wildgoosespace.org.uk
X-WR-CALDESC:Events for Wild Goose Space
REFRESH-INTERVAL;VALUE=DURATION:PT1H
X-Robots-Tag:noindex
X-PUBLISHED-TTL:PT1H
BEGIN:VTIMEZONE
TZID:UTC
BEGIN:STANDARD
TZOFFSETFROM:+0000
TZOFFSETTO:+0000
TZNAME:UTC
DTSTART:20180101T000000
END:STANDARD
END:VTIMEZONE
BEGIN:VEVENT
DTSTART;TZID=UTC:20190403T130000
DTEND;TZID=UTC:20190403T143000
DTSTAMP:20260424T034911
CREATED:20190330T155751Z
LAST-MODIFIED:20190330T155751Z
UID:6221-1554296400-1554301800@www.wildgoosespace.org.uk
SUMMARY:TRE Event
DESCRIPTION:With Linda Johnson
URL:https://www.wildgoosespace.org.uk/event/tre-event-30/
END:VEVENT
BEGIN:VEVENT
DTSTART;TZID=UTC:20190403T150000
DTEND;TZID=UTC:20190403T163000
DTSTAMP:20260424T034912
CREATED:20190306T161709Z
LAST-MODIFIED:20190306T161709Z
UID:6127-1554303600-1554309000@www.wildgoosespace.org.uk
SUMMARY:Private Hire
DESCRIPTION:Fiona Hamilton
URL:https://www.wildgoosespace.org.uk/event/private-hire-93/
END:VEVENT
END:VCALENDAR