BEGIN:VCALENDAR
VERSION:2.0
PRODID:-//Wild Goose Space - ECPv6.15.20//NONSGML v1.0//EN
CALSCALE:GREGORIAN
METHOD:PUBLISH
X-WR-CALNAME:Wild Goose Space
X-ORIGINAL-URL:https://www.wildgoosespace.org.uk
X-WR-CALDESC:Events for Wild Goose Space
REFRESH-INTERVAL;VALUE=DURATION:PT1H
X-Robots-Tag:noindex
X-PUBLISHED-TTL:PT1H
BEGIN:VTIMEZONE
TZID:UTC
BEGIN:STANDARD
TZOFFSETFROM:+0000
TZOFFSETTO:+0000
TZNAME:UTC
DTSTART:20180101T000000
END:STANDARD
END:VTIMEZONE
BEGIN:VEVENT
DTSTART;TZID=UTC:20190309T090000
DTEND;TZID=UTC:20190310T220000
DTSTAMP:20260424T022615
CREATED:20180917T114958Z
LAST-MODIFIED:20190215T104551Z
UID:5288-1552122000-1552255200@www.wildgoosespace.org.uk
SUMMARY:TRE Certified Training Module 1
DESCRIPTION:TRE Certified Training Module 1 with Steph Hodgson and Jo Hamilton \nsteph@moving hearts.co.uk
URL:https://www.wildgoosespace.org.uk/event/steph-hodgson-2/
END:VEVENT
END:VCALENDAR