BEGIN:VCALENDAR
VERSION:2.0
PRODID:-//Wild Goose Space - ECPv6.15.20//NONSGML v1.0//EN
CALSCALE:GREGORIAN
METHOD:PUBLISH
X-ORIGINAL-URL:https://www.wildgoosespace.org.uk
X-WR-CALDESC:Events for Wild Goose Space
REFRESH-INTERVAL;VALUE=DURATION:PT1H
X-Robots-Tag:noindex
X-PUBLISHED-TTL:PT1H
BEGIN:VTIMEZONE
TZID:UTC
BEGIN:STANDARD
TZOFFSETFROM:+0000
TZOFFSETTO:+0000
TZNAME:UTC
DTSTART:20180101T000000
END:STANDARD
END:VTIMEZONE
BEGIN:VEVENT
DTSTART;TZID=UTC:20190307T164500
DTEND;TZID=UTC:20190307T174500
DTSTAMP:20260424T022632
CREATED:20190218T112634Z
LAST-MODIFIED:20190218T112739Z
UID:6070-1551977100-1551980700@www.wildgoosespace.org.uk
SUMMARY:Break Dancing Classes
DESCRIPTION:Our brand new weekly classes aim to inspire creativity and encourage self expression through the original street dance\, Breaking…. 4.15pm to 5.15pm Thursdays\, weekly starting 8th November 2018.     For Booking and more information Contact Sam Amos: 07958 940041 participatipon@trashdollys.com
URL:https://www.wildgoosespace.org.uk/event/break-dancing-classes/
END:VEVENT
END:VCALENDAR