BEGIN:VCALENDAR
VERSION:2.0
PRODID:-//Wild Goose Space - ECPv6.15.20//NONSGML v1.0//EN
CALSCALE:GREGORIAN
METHOD:PUBLISH
X-ORIGINAL-URL:https://www.wildgoosespace.org.uk
X-WR-CALDESC:Events for Wild Goose Space
REFRESH-INTERVAL;VALUE=DURATION:PT1H
X-Robots-Tag:noindex
X-PUBLISHED-TTL:PT1H
BEGIN:VTIMEZONE
TZID:UTC
BEGIN:STANDARD
TZOFFSETFROM:+0000
TZOFFSETTO:+0000
TZNAME:UTC
DTSTART:20180101T000000
END:STANDARD
END:VTIMEZONE
BEGIN:VEVENT
DTSTART;TZID=UTC:20190218T080000
DTEND;TZID=UTC:20190218T170000
DTSTAMP:20260424T010514
CREATED:20190212T122611Z
LAST-MODIFIED:20190212T122758Z
UID:6052-1550476800-1550509200@www.wildgoosespace.org.uk
SUMMARY:HALF TERM
DESCRIPTION:Half Term to 22.2.19
URL:https://www.wildgoosespace.org.uk/event/half-term-6/
END:VEVENT
BEGIN:VEVENT
DTSTART;TZID=UTC:20190218T130000
DTEND;TZID=UTC:20190218T160000
DTSTAMP:20260424T010514
CREATED:20190125T132615Z
LAST-MODIFIED:20190125T132615Z
UID:5897-1550494800-1550505600@www.wildgoosespace.org.uk
SUMMARY:Private Hire
DESCRIPTION:Helen Jewel
URL:https://www.wildgoosespace.org.uk/event/private-hire-82/
END:VEVENT
END:VCALENDAR