BEGIN:VCALENDAR
VERSION:2.0
PRODID:-//Wild Goose Space - ECPv6.15.20//NONSGML v1.0//EN
CALSCALE:GREGORIAN
METHOD:PUBLISH
X-ORIGINAL-URL:https://www.wildgoosespace.org.uk
X-WR-CALDESC:Events for Wild Goose Space
REFRESH-INTERVAL;VALUE=DURATION:PT1H
X-Robots-Tag:noindex
X-PUBLISHED-TTL:PT1H
BEGIN:VTIMEZONE
TZID:UTC
BEGIN:STANDARD
TZOFFSETFROM:+0000
TZOFFSETTO:+0000
TZNAME:UTC
DTSTART:20180101T000000
END:STANDARD
END:VTIMEZONE
BEGIN:VEVENT
DTSTART;TZID=UTC:20190214T140000
DTEND;TZID=UTC:20190214T150000
DTSTAMP:20260424T010546
CREATED:20190205T123129Z
LAST-MODIFIED:20190205T123129Z
UID:5970-1550152800-1550156400@www.wildgoosespace.org.uk
SUMMARY:Private Hire
DESCRIPTION:Ruth Price
URL:https://www.wildgoosespace.org.uk/event/private-hire-87/
END:VEVENT
BEGIN:VEVENT
DTSTART;TZID=UTC:20190214T193000
DTEND;TZID=UTC:20190214T213000
DTSTAMP:20260424T010546
CREATED:20180414T123353Z
LAST-MODIFIED:20180414T123353Z
UID:4392-1550172600-1550179800@www.wildgoosespace.org.uk
SUMMARY:Women's Circle
DESCRIPTION:Paloma
URL:https://www.wildgoosespace.org.uk/event/womens-circle-13/
END:VEVENT
END:VCALENDAR