BEGIN:VCALENDAR
VERSION:2.0
PRODID:-//Wild Goose Space - ECPv6.15.20//NONSGML v1.0//EN
CALSCALE:GREGORIAN
METHOD:PUBLISH
X-ORIGINAL-URL:https://www.wildgoosespace.org.uk
X-WR-CALDESC:Events for Wild Goose Space
REFRESH-INTERVAL;VALUE=DURATION:PT1H
X-Robots-Tag:noindex
X-PUBLISHED-TTL:PT1H
BEGIN:VTIMEZONE
TZID:UTC
BEGIN:STANDARD
TZOFFSETFROM:+0000
TZOFFSETTO:+0000
TZNAME:UTC
DTSTART:20180101T000000
END:STANDARD
END:VTIMEZONE
BEGIN:VEVENT
DTSTART;TZID=UTC:20190203T100000
DTEND;TZID=UTC:20190203T120000
DTSTAMP:20260423T234312
CREATED:20190201T121452Z
LAST-MODIFIED:20190201T121452Z
UID:5950-1549188000-1549195200@www.wildgoosespace.org.uk
SUMMARY:Monthly Yoga and Self Care for Women P
DESCRIPTION:Monthly Yoga and self care for women. \nMarinella
URL:https://www.wildgoosespace.org.uk/event/monthly-yoga-self-care-women-p-2/
END:VEVENT
BEGIN:VEVENT
DTSTART;TZID=UTC:20190203T140000
DTEND;TZID=UTC:20190203T170000
DTSTAMP:20260423T234312
CREATED:20190130T160658Z
LAST-MODIFIED:20190130T160658Z
UID:5904-1549202400-1549213200@www.wildgoosespace.org.uk
SUMMARY:Songs for Imbloc
DESCRIPTION:Songs for Imbloc \nJenny Sansom
URL:https://www.wildgoosespace.org.uk/event/songs-for-imbloc/
END:VEVENT
BEGIN:VEVENT
DTSTART;TZID=UTC:20190203T190000
DTEND;TZID=UTC:20190203T210000
DTSTAMP:20260423T234312
CREATED:20190131T125817Z
LAST-MODIFIED:20190131T125817Z
UID:5908-1549220400-1549227600@www.wildgoosespace.org.uk
SUMMARY:TRE Event
DESCRIPTION:TRE Event with Linda
URL:https://www.wildgoosespace.org.uk/event/tre-event-27/
END:VEVENT
END:VCALENDAR