BEGIN:VCALENDAR
VERSION:2.0
PRODID:-//Wild Goose Space - ECPv6.15.20//NONSGML v1.0//EN
CALSCALE:GREGORIAN
METHOD:PUBLISH
X-WR-CALNAME:Wild Goose Space
X-ORIGINAL-URL:https://www.wildgoosespace.org.uk
X-WR-CALDESC:Events for Wild Goose Space
REFRESH-INTERVAL;VALUE=DURATION:PT1H
X-Robots-Tag:noindex
X-PUBLISHED-TTL:PT1H
BEGIN:VTIMEZONE
TZID:UTC
BEGIN:STANDARD
TZOFFSETFROM:+0000
TZOFFSETTO:+0000
TZNAME:UTC
DTSTART:20180101T000000
END:STANDARD
END:VTIMEZONE
BEGIN:VEVENT
DTSTART;TZID=UTC:20190131T080000
DTEND;TZID=UTC:20190131T170000
DTSTAMP:20260423T234049
CREATED:20190131T150053Z
LAST-MODIFIED:20190131T150053Z
UID:5927-1548921600-1548954000@www.wildgoosespace.org.uk
SUMMARY:shiatsu - Paul McNicholls
DESCRIPTION:Shiatsu – Paul McNicholls \nContact     paul@shiatsutherapy.org.uk
URL:https://www.wildgoosespace.org.uk/event/shiatsu-paul-mcnicholls-17/
END:VEVENT
BEGIN:VEVENT
DTSTART;TZID=UTC:20190131T190000
DTEND;TZID=UTC:20190131T210000
DTSTAMP:20260423T234049
CREATED:20190114T132010Z
LAST-MODIFIED:20190114T132010Z
UID:5861-1548961200-1548968400@www.wildgoosespace.org.uk
SUMMARY:Positive Birth Group
DESCRIPTION:Positive Birth Group with Tortie Rye
URL:https://www.wildgoosespace.org.uk/event/positive-birth-group-14/
END:VEVENT
END:VCALENDAR