BEGIN:VCALENDAR
VERSION:2.0
PRODID:-//Wild Goose Space - ECPv6.15.20//NONSGML v1.0//EN
CALSCALE:GREGORIAN
METHOD:PUBLISH
X-ORIGINAL-URL:https://www.wildgoosespace.org.uk
X-WR-CALDESC:Events for Wild Goose Space
REFRESH-INTERVAL;VALUE=DURATION:PT1H
X-Robots-Tag:noindex
X-PUBLISHED-TTL:PT1H
BEGIN:VTIMEZONE
TZID:UTC
BEGIN:STANDARD
TZOFFSETFROM:+0000
TZOFFSETTO:+0000
TZNAME:UTC
DTSTART:20180101T000000
END:STANDARD
END:VTIMEZONE
BEGIN:VEVENT
DTSTART;TZID=UTC:20190119T090000
DTEND;TZID=UTC:20190120T173000
DTSTAMP:20260423T234217
CREATED:20170905T162637Z
LAST-MODIFIED:20181015T120632Z
UID:2954-1547888400-1548005400@www.wildgoosespace.org.uk
SUMMARY:BWY Teacher Training
DESCRIPTION:British Wheel of Yoga Teacher Training. \nWith Andrea Newman \nContact : andrea@yogauk.com
URL:https://www.wildgoosespace.org.uk/event/bwyq-6/
END:VEVENT
END:VCALENDAR