BEGIN:VCALENDAR
VERSION:2.0
PRODID:-//Wild Goose Space - ECPv6.15.20//NONSGML v1.0//EN
CALSCALE:GREGORIAN
METHOD:PUBLISH
X-WR-CALNAME:Wild Goose Space
X-ORIGINAL-URL:https://www.wildgoosespace.org.uk
X-WR-CALDESC:Events for Wild Goose Space
REFRESH-INTERVAL;VALUE=DURATION:PT1H
X-Robots-Tag:noindex
X-PUBLISHED-TTL:PT1H
BEGIN:VTIMEZONE
TZID:UTC
BEGIN:STANDARD
TZOFFSETFROM:+0000
TZOFFSETTO:+0000
TZNAME:UTC
DTSTART:20180101T000000
END:STANDARD
END:VTIMEZONE
BEGIN:VEVENT
DTSTART;TZID=UTC:20190117T094500
DTEND;TZID=UTC:20190117T110000
DTSTAMP:20260423T234048
CREATED:20190114T125942Z
LAST-MODIFIED:20190114T125942Z
UID:5835-1547718300-1547722800@www.wildgoosespace.org.uk
SUMMARY:Mindful Yoga For All
DESCRIPTION:Mindful Yoga 4 All. \nClaire-Louise  Symonds \nmindfulyoga4all@gmail.com
URL:https://www.wildgoosespace.org.uk/event/mindful-yoga-for-all-3/
END:VEVENT
BEGIN:VEVENT
DTSTART;TZID=UTC:20190117T111500
DTEND;TZID=UTC:20190117T133000
DTSTAMP:20260423T234048
CREATED:20190114T131450Z
LAST-MODIFIED:20190131T141933Z
UID:5848-1547723700-1547731800@www.wildgoosespace.org.uk
SUMMARY:BYOB Choir
DESCRIPTION:BYOB Choir With Julia Turner. \nContact Julia \njuliabfturner@gmail.com
URL:https://www.wildgoosespace.org.uk/event/byob-choir-20/
END:VEVENT
END:VCALENDAR