BEGIN:VCALENDAR
VERSION:2.0
PRODID:-//Wild Goose Space - ECPv6.15.20//NONSGML v1.0//EN
CALSCALE:GREGORIAN
METHOD:PUBLISH
X-ORIGINAL-URL:https://www.wildgoosespace.org.uk
X-WR-CALDESC:Events for Wild Goose Space
REFRESH-INTERVAL;VALUE=DURATION:PT1H
X-Robots-Tag:noindex
X-PUBLISHED-TTL:PT1H
BEGIN:VTIMEZONE
TZID:UTC
BEGIN:STANDARD
TZOFFSETFROM:+0000
TZOFFSETTO:+0000
TZNAME:UTC
DTSTART:20180101T000000
END:STANDARD
END:VTIMEZONE
BEGIN:VEVENT
DTSTART;TZID=UTC:20190110T164500
DTEND;TZID=UTC:20190110T174500
DTSTAMP:20260423T234217
CREATED:20190207T155444Z
LAST-MODIFIED:20190208T162533Z
UID:6009-1547138700-1547142300@www.wildgoosespace.org.uk
SUMMARY:Break Dance Classes
DESCRIPTION:Our brand new weekly classes aim to inspire creativity and encourage self expression through the original street dance\, Breaking…. \n4.15pm to 5.15pm Thursdays\, weekly starting 8th November 2018. \n  \n  \nFor Booking and more information Contact Sam Amos: \n07958 940041 \nparticipatipon@trashdollys.com
URL:https://www.wildgoosespace.org.uk/event/break-dance-classes-2/
END:VEVENT
BEGIN:VEVENT
DTSTART;TZID=UTC:20190110T193000
DTEND;TZID=UTC:20190110T213000
DTSTAMP:20260423T234217
CREATED:20180414T123131Z
LAST-MODIFIED:20180414T123131Z
UID:4390-1547148600-1547155800@www.wildgoosespace.org.uk
SUMMARY:Women's Circle
DESCRIPTION:Paloma
URL:https://www.wildgoosespace.org.uk/event/womens-circle-12/
END:VEVENT
END:VCALENDAR