BEGIN:VCALENDAR
VERSION:2.0
PRODID:-//Wild Goose Space - ECPv6.15.20//NONSGML v1.0//EN
CALSCALE:GREGORIAN
METHOD:PUBLISH
X-WR-CALNAME:Wild Goose Space
X-ORIGINAL-URL:https://www.wildgoosespace.org.uk
X-WR-CALDESC:Events for Wild Goose Space
REFRESH-INTERVAL;VALUE=DURATION:PT1H
X-Robots-Tag:noindex
X-PUBLISHED-TTL:PT1H
BEGIN:VTIMEZONE
TZID:UTC
BEGIN:STANDARD
TZOFFSETFROM:+0000
TZOFFSETTO:+0000
TZNAME:UTC
DTSTART:20180101T000000
END:STANDARD
END:VTIMEZONE
BEGIN:VEVENT
DTSTART;TZID=UTC:20190108T113000
DTEND;TZID=UTC:20190108T130000
DTSTAMP:20260423T234049
CREATED:20181205T175658Z
LAST-MODIFIED:20181205T175658Z
UID:5557-1546947000-1546952400@www.wildgoosespace.org.uk
SUMMARY:New Event With Lee
DESCRIPTION:New event with Lee.
URL:https://www.wildgoosespace.org.uk/event/new-event-lee/
END:VEVENT
BEGIN:VEVENT
DTSTART;TZID=UTC:20190108T180000
DTEND;TZID=UTC:20190108T194500
DTSTAMP:20260423T234049
CREATED:20190109T092300Z
LAST-MODIFIED:20190109T092300Z
UID:5737-1546970400-1546976700@www.wildgoosespace.org.uk
SUMMARY:Yoga with Sarah
DESCRIPTION:Yoga with Sarah Waterfield. Contact Sarah   sarah@thewholenessofyoga.com
URL:https://www.wildgoosespace.org.uk/event/yoga-with-sarah-8/
END:VEVENT
BEGIN:VEVENT
DTSTART;TZID=UTC:20190108T200000
DTEND;TZID=UTC:20190108T210000
DTSTAMP:20260423T234049
CREATED:20190109T092947Z
LAST-MODIFIED:20190109T092947Z
UID:5752-1546977600-1546981200@www.wildgoosespace.org.uk
SUMMARY:Pilates with Ula
DESCRIPTION:Join Ula for her weekly Pilates Sessions \nPhone:07733 182538 \n  \n  \n  \n  \n 
URL:https://www.wildgoosespace.org.uk/event/pilates-with-ula-10/
END:VEVENT
END:VCALENDAR