BEGIN:VCALENDAR
VERSION:2.0
PRODID:-//Wild Goose Space - ECPv6.15.20//NONSGML v1.0//EN
CALSCALE:GREGORIAN
METHOD:PUBLISH
X-ORIGINAL-URL:https://www.wildgoosespace.org.uk
X-WR-CALDESC:Events for Wild Goose Space
REFRESH-INTERVAL;VALUE=DURATION:PT1H
X-Robots-Tag:noindex
X-PUBLISHED-TTL:PT1H
BEGIN:VTIMEZONE
TZID:UTC
BEGIN:STANDARD
TZOFFSETFROM:+0000
TZOFFSETTO:+0000
TZNAME:UTC
DTSTART:20180101T000000
END:STANDARD
END:VTIMEZONE
BEGIN:VEVENT
DTSTART;TZID=UTC:20190107T103000
DTEND;TZID=UTC:20190107T113000
DTSTAMP:20260423T234149
CREATED:20190103T102231Z
LAST-MODIFIED:20190103T102231Z
UID:5602-1546857000-1546860600@www.wildgoosespace.org.uk
SUMMARY:Dance Mums
DESCRIPTION:Dance Mums \n\nNEW LOCATION:\nNorth Bristol @ Wild Goose Space\n228 Mina Rd\, Bristol BS2 9YP\n\nMondays 10:30am-11:15am\n\nSvetlana Ovsyannikova (Woodgate) \n\nOvDa Managing Director/Dance teacher/Choreographer/Performer/Dancer\nwww.ovdadance.com\n\n07794 111608
URL:https://www.wildgoosespace.org.uk/event/dance-mums-7/
END:VEVENT
BEGIN:VEVENT
DTSTART;TZID=UTC:20190107T171500
DTEND;TZID=UTC:20190107T191500
DTSTAMP:20260423T234149
CREATED:20190103T102741Z
LAST-MODIFIED:20190103T102741Z
UID:5616-1546881300-1546888500@www.wildgoosespace.org.uk
SUMMARY:Pilates With Paula
DESCRIPTION:Pilates with Paula Whatman. \n5.15pm to 6.15pm        and 6.15pm to 7.15pm \nEVERY MONDAY TERM TIME. \n  \nContact    07914 400160
URL:https://www.wildgoosespace.org.uk/event/pilates-with-paula-13/
END:VEVENT
BEGIN:VEVENT
DTSTART;TZID=UTC:20190107T193000
DTEND;TZID=UTC:20190107T213000
DTSTAMP:20260423T234149
CREATED:20190103T113926Z
LAST-MODIFIED:20190103T113926Z
UID:5630-1546889400-1546896600@www.wildgoosespace.org.uk
SUMMARY:Georgian Choir with Anthony
DESCRIPTION:  \nGeorgian Choir  with Anthony Johnson. \nEvery Monday evening 7.30pm to 9.30pm during Term time. \nContact Anthony 07950 052100
URL:https://www.wildgoosespace.org.uk/event/georgian-choir-anthony/
END:VEVENT
END:VCALENDAR