BEGIN:VCALENDAR
VERSION:2.0
PRODID:-//Wild Goose Space - ECPv6.15.20//NONSGML v1.0//EN
CALSCALE:GREGORIAN
METHOD:PUBLISH
X-WR-CALNAME:Wild Goose Space
X-ORIGINAL-URL:https://www.wildgoosespace.org.uk
X-WR-CALDESC:Events for Wild Goose Space
REFRESH-INTERVAL;VALUE=DURATION:PT1H
X-Robots-Tag:noindex
X-PUBLISHED-TTL:PT1H
BEGIN:VTIMEZONE
TZID:UTC
BEGIN:STANDARD
TZOFFSETFROM:+0000
TZOFFSETTO:+0000
TZNAME:UTC
DTSTART:20170101T000000
END:STANDARD
END:VTIMEZONE
BEGIN:VEVENT
DTSTART;TZID=UTC:20181221T080000
DTEND;TZID=UTC:20181221T170000
DTSTAMP:20260423T221344
CREATED:20180725T100001Z
LAST-MODIFIED:20180725T100001Z
UID:4784-1545379200-1545411600@www.wildgoosespace.org.uk
SUMMARY:TERM ENDS
DESCRIPTION:
URL:https://www.wildgoosespace.org.uk/event/term-ends/
END:VEVENT
BEGIN:VEVENT
DTSTART;TZID=UTC:20181221T173000
DTEND;TZID=UTC:20181221T183000
DTSTAMP:20260423T221344
CREATED:20181126T152532Z
LAST-MODIFIED:20181126T152532Z
UID:5518-1545413400-1545417000@www.wildgoosespace.org.uk
SUMMARY:Handstands
DESCRIPTION:Ben Lowry
URL:https://www.wildgoosespace.org.uk/event/handstands/
END:VEVENT
BEGIN:VEVENT
DTSTART;TZID=UTC:20181221T184500
DTEND;TZID=UTC:20181221T223000
DTSTAMP:20260423T221344
CREATED:20181207T170517Z
LAST-MODIFIED:20181207T170517Z
UID:5564-1545417900-1545431400@www.wildgoosespace.org.uk
SUMMARY:Ellie Little
DESCRIPTION:Ellie Little
URL:https://www.wildgoosespace.org.uk/event/ellie-little/
END:VEVENT
END:VCALENDAR