BEGIN:VCALENDAR
VERSION:2.0
PRODID:-//Wild Goose Space - ECPv6.15.20//NONSGML v1.0//EN
CALSCALE:GREGORIAN
METHOD:PUBLISH
X-ORIGINAL-URL:https://www.wildgoosespace.org.uk
X-WR-CALDESC:Events for Wild Goose Space
REFRESH-INTERVAL;VALUE=DURATION:PT1H
X-Robots-Tag:noindex
X-PUBLISHED-TTL:PT1H
BEGIN:VTIMEZONE
TZID:UTC
BEGIN:STANDARD
TZOFFSETFROM:+0000
TZOFFSETTO:+0000
TZNAME:UTC
DTSTART:20170101T000000
END:STANDARD
END:VTIMEZONE
BEGIN:VEVENT
DTSTART;TZID=UTC:20181215T163000
DTEND;TZID=UTC:20181215T230000
DTSTAMP:20260423T221500
CREATED:20181129T103018Z
LAST-MODIFIED:20181205T144915Z
UID:5528-1544891400-1544914800@www.wildgoosespace.org.uk
SUMMARY:Community Land Trust Christmas Dinner
DESCRIPTION:Community Land Trust Christmas dinner. \n  \n  \n  \n  \nAnna Hope
URL:https://www.wildgoosespace.org.uk/event/community-land-trust-christmas-dinner/
END:VEVENT
END:VCALENDAR