BEGIN:VCALENDAR
VERSION:2.0
PRODID:-//Wild Goose Space - ECPv6.15.20//NONSGML v1.0//EN
CALSCALE:GREGORIAN
METHOD:PUBLISH
X-WR-CALNAME:Wild Goose Space
X-ORIGINAL-URL:https://www.wildgoosespace.org.uk
X-WR-CALDESC:Events for Wild Goose Space
REFRESH-INTERVAL;VALUE=DURATION:PT1H
X-Robots-Tag:noindex
X-PUBLISHED-TTL:PT1H
BEGIN:VTIMEZONE
TZID:UTC
BEGIN:STANDARD
TZOFFSETFROM:+0000
TZOFFSETTO:+0000
TZNAME:UTC
DTSTART:20170101T000000
END:STANDARD
END:VTIMEZONE
BEGIN:VEVENT
DTSTART;TZID=UTC:20181124T080000
DTEND;TZID=UTC:20181124T170000
DTSTAMP:20260423T204537
CREATED:20181124T122017Z
LAST-MODIFIED:20181124T122017Z
UID:5516-1543046400-1543078800@www.wildgoosespace.org.uk
SUMMARY:Term Starts
DESCRIPTION:
URL:https://www.wildgoosespace.org.uk/event/term-starts-5/
END:VEVENT
BEGIN:VEVENT
DTSTART;TZID=UTC:20181124T093000
DTEND;TZID=UTC:20181124T130000
DTSTAMP:20260423T204537
CREATED:20161118T161749Z
LAST-MODIFIED:20161118T161749Z
UID:1363-1543051800-1543064400@www.wildgoosespace.org.uk
SUMMARY:Caroline Reid Yoga
DESCRIPTION:Caroline Reid Yoga. \nTeaching scaravelli influenced yoga since 2002. \nContact Caroline \ncaroline@carolinereidyoga.com \n07570 507494 \nEvery Month Saturdays at Wildgoose Space
URL:https://www.wildgoosespace.org.uk/event/caroline-reid-yoga-21/
END:VEVENT
BEGIN:VEVENT
DTSTART;TZID=UTC:20181124T140000
DTEND;TZID=UTC:20181124T180000
DTSTAMP:20260423T204537
CREATED:20181004T132145Z
LAST-MODIFIED:20181004T132145Z
UID:5328-1543068000-1543082400@www.wildgoosespace.org.uk
SUMMARY:Children's Party
DESCRIPTION:Martin KERSLAKE \n 
URL:https://www.wildgoosespace.org.uk/event/childrens-party-12/
END:VEVENT
END:VCALENDAR