BEGIN:VCALENDAR
VERSION:2.0
PRODID:-//Wild Goose Space - ECPv6.15.20//NONSGML v1.0//EN
CALSCALE:GREGORIAN
METHOD:PUBLISH
X-WR-CALNAME:Wild Goose Space
X-ORIGINAL-URL:https://www.wildgoosespace.org.uk
X-WR-CALDESC:Events for Wild Goose Space
REFRESH-INTERVAL;VALUE=DURATION:PT1H
X-Robots-Tag:noindex
X-PUBLISHED-TTL:PT1H
BEGIN:VTIMEZONE
TZID:UTC
BEGIN:STANDARD
TZOFFSETFROM:+0000
TZOFFSETTO:+0000
TZNAME:UTC
DTSTART:20170101T000000
END:STANDARD
END:VTIMEZONE
BEGIN:VEVENT
DTSTART;TZID=UTC:20181123T190000
DTEND;TZID=UTC:20181123T203000
DTSTAMP:20260423T204539
CREATED:20180830T095149Z
LAST-MODIFIED:20180830T095149Z
UID:5178-1542999600-1543005000@www.wildgoosespace.org.uk
SUMMARY:JONGDAR
DESCRIPTION:Buddhist Physical Practices
URL:https://www.wildgoosespace.org.uk/event/jongdar-4/
END:VEVENT
END:VCALENDAR