BEGIN:VCALENDAR
VERSION:2.0
PRODID:-//Wild Goose Space - ECPv6.15.20//NONSGML v1.0//EN
CALSCALE:GREGORIAN
METHOD:PUBLISH
X-ORIGINAL-URL:https://www.wildgoosespace.org.uk
X-WR-CALDESC:Events for Wild Goose Space
REFRESH-INTERVAL;VALUE=DURATION:PT1H
X-Robots-Tag:noindex
X-PUBLISHED-TTL:PT1H
BEGIN:VTIMEZONE
TZID:UTC
BEGIN:STANDARD
TZOFFSETFROM:+0000
TZOFFSETTO:+0000
TZNAME:UTC
DTSTART:20170101T000000
END:STANDARD
END:VTIMEZONE
BEGIN:VEVENT
DTSTART;TZID=UTC:20181117T090000
DTEND;TZID=UTC:20181117T173000
DTSTAMP:20260423T204738
CREATED:20170905T162103Z
LAST-MODIFIED:20180114T125453Z
UID:2952-1542445200-1542475800@www.wildgoosespace.org.uk
SUMMARY:BWYQ
DESCRIPTION:British Wheel of Yoga Foundation Course \nWith Eve Douglas \nContact :- eve.yoga@hotmail.co.uk
URL:https://www.wildgoosespace.org.uk/event/bwyq-5/
END:VEVENT
END:VCALENDAR