BEGIN:VCALENDAR
VERSION:2.0
PRODID:-//Wild Goose Space - ECPv6.15.20//NONSGML v1.0//EN
CALSCALE:GREGORIAN
METHOD:PUBLISH
X-ORIGINAL-URL:https://www.wildgoosespace.org.uk
X-WR-CALDESC:Events for Wild Goose Space
REFRESH-INTERVAL;VALUE=DURATION:PT1H
X-Robots-Tag:noindex
X-PUBLISHED-TTL:PT1H
BEGIN:VTIMEZONE
TZID:UTC
BEGIN:STANDARD
TZOFFSETFROM:+0000
TZOFFSETTO:+0000
TZNAME:UTC
DTSTART:20170101T000000
END:STANDARD
END:VTIMEZONE
BEGIN:VEVENT
DTSTART;TZID=UTC:20181108T161500
DTEND;TZID=UTC:20181108T171500
DTSTAMP:20260423T204739
CREATED:20181031T111312Z
LAST-MODIFIED:20181031T111548Z
UID:5427-1541693700-1541697300@www.wildgoosespace.org.uk
SUMMARY:Break Dance Classes
DESCRIPTION:  \n  \nOur brand new weekly classes aim to inspire creativity and encourage self expression through the original street dance\, Breaking…. \n4.15pm to 5.15pm Thursdays\, weekly starting 8th November 2018. \n  \n  \nFor Booking and more information Contact Sam Amos: \n07958 940041 \nparticipatipon@trashdollys.com \n 
URL:https://www.wildgoosespace.org.uk/event/break-dance-classes/
END:VEVENT
BEGIN:VEVENT
DTSTART;TZID=UTC:20181108T193000
DTEND;TZID=UTC:20181108T213000
DTSTAMP:20260423T204739
CREATED:20180414T122304Z
LAST-MODIFIED:20180414T122304Z
UID:4384-1541705400-1541712600@www.wildgoosespace.org.uk
SUMMARY:Women's Circle
DESCRIPTION:Paloma
URL:https://www.wildgoosespace.org.uk/event/womens-circle-9/
END:VEVENT
END:VCALENDAR