BEGIN:VCALENDAR
VERSION:2.0
PRODID:-//Wild Goose Space - ECPv6.15.20//NONSGML v1.0//EN
CALSCALE:GREGORIAN
METHOD:PUBLISH
X-WR-CALNAME:Wild Goose Space
X-ORIGINAL-URL:https://www.wildgoosespace.org.uk
X-WR-CALDESC:Events for Wild Goose Space
REFRESH-INTERVAL;VALUE=DURATION:PT1H
X-Robots-Tag:noindex
X-PUBLISHED-TTL:PT1H
BEGIN:VTIMEZONE
TZID:UTC
BEGIN:STANDARD
TZOFFSETFROM:+0000
TZOFFSETTO:+0000
TZNAME:UTC
DTSTART:20170101T000000
END:STANDARD
END:VTIMEZONE
BEGIN:VEVENT
DTSTART;TZID=UTC:20181106T183000
DTEND;TZID=UTC:20181106T193000
DTSTAMP:20260423T204446
CREATED:20181025T114449Z
LAST-MODIFIED:20181025T114449Z
UID:5408-1541529000-1541532600@www.wildgoosespace.org.uk
SUMMARY:Pilate with Ula
DESCRIPTION:
URL:https://www.wildgoosespace.org.uk/event/pilate-with-ula-2/
END:VEVENT
END:VCALENDAR