BEGIN:VCALENDAR
VERSION:2.0
PRODID:-//Wild Goose Space - ECPv6.15.20//NONSGML v1.0//EN
CALSCALE:GREGORIAN
METHOD:PUBLISH
X-ORIGINAL-URL:https://www.wildgoosespace.org.uk
X-WR-CALDESC:Events for Wild Goose Space
REFRESH-INTERVAL;VALUE=DURATION:PT1H
X-Robots-Tag:noindex
X-PUBLISHED-TTL:PT1H
BEGIN:VTIMEZONE
TZID:UTC
BEGIN:STANDARD
TZOFFSETFROM:+0000
TZOFFSETTO:+0000
TZNAME:UTC
DTSTART:20170101T000000
END:STANDARD
END:VTIMEZONE
BEGIN:VEVENT
DTSTART;TZID=UTC:20181103T090000
DTEND;TZID=UTC:20181104T173000
DTSTAMP:20260423T191244
CREATED:20161114T120705Z
LAST-MODIFIED:20161114T120719Z
UID:1272-1541235600-1541352600@www.wildgoosespace.org.uk
SUMMARY:BWY Training
DESCRIPTION:British Wheel of Yoga Training Weekend. \nContact Eve. \neve.yoga@hotmail.co.uk
URL:https://www.wildgoosespace.org.uk/event/bwy-training-15/
END:VEVENT
BEGIN:VEVENT
DTSTART;TZID=UTC:20181104T190000
DTEND;TZID=UTC:20181104T210000
DTSTAMP:20260423T191244
CREATED:20181007T123529Z
LAST-MODIFIED:20181007T123529Z
UID:5342-1541358000-1541365200@www.wildgoosespace.org.uk
SUMMARY:TRE Event
DESCRIPTION:TRE Event    with Linda Johnson
URL:https://www.wildgoosespace.org.uk/event/tre-event-24/
END:VEVENT
END:VCALENDAR