BEGIN:VCALENDAR
VERSION:2.0
PRODID:-//Wild Goose Space - ECPv6.15.20//NONSGML v1.0//EN
CALSCALE:GREGORIAN
METHOD:PUBLISH
X-WR-CALNAME:Wild Goose Space
X-ORIGINAL-URL:https://www.wildgoosespace.org.uk
X-WR-CALDESC:Events for Wild Goose Space
REFRESH-INTERVAL;VALUE=DURATION:PT1H
X-Robots-Tag:noindex
X-PUBLISHED-TTL:PT1H
BEGIN:VTIMEZONE
TZID:UTC
BEGIN:STANDARD
TZOFFSETFROM:+0000
TZOFFSETTO:+0000
TZNAME:UTC
DTSTART:20170101T000000
END:STANDARD
END:VTIMEZONE
BEGIN:VEVENT
DTSTART;TZID=UTC:20181029T080000
DTEND;TZID=UTC:20181029T170000
DTSTAMP:20260423T191104
CREATED:20180411T104553Z
LAST-MODIFIED:20180411T104553Z
UID:4365-1540800000-1540832400@www.wildgoosespace.org.uk
SUMMARY:HALF TERM
DESCRIPTION:HALF TERM
URL:https://www.wildgoosespace.org.uk/event/half-term-4/
END:VEVENT
BEGIN:VEVENT
DTSTART;TZID=UTC:20181029T183000
DTEND;TZID=UTC:20181029T220000
DTSTAMP:20260423T191104
CREATED:20180717T101121Z
LAST-MODIFIED:20180717T101121Z
UID:4764-1540837800-1540850400@www.wildgoosespace.org.uk
SUMMARY:Estate Management AGM
DESCRIPTION:
URL:https://www.wildgoosespace.org.uk/event/estate-management-agm/
END:VEVENT
END:VCALENDAR