BEGIN:VCALENDAR
VERSION:2.0
PRODID:-//Wild Goose Space - ECPv6.15.20//NONSGML v1.0//EN
CALSCALE:GREGORIAN
METHOD:PUBLISH
X-WR-CALNAME:Wild Goose Space
X-ORIGINAL-URL:https://www.wildgoosespace.org.uk
X-WR-CALDESC:Events for Wild Goose Space
REFRESH-INTERVAL;VALUE=DURATION:PT1H
X-Robots-Tag:noindex
X-PUBLISHED-TTL:PT1H
BEGIN:VTIMEZONE
TZID:UTC
BEGIN:STANDARD
TZOFFSETFROM:+0000
TZOFFSETTO:+0000
TZNAME:UTC
DTSTART:20170101T000000
END:STANDARD
END:VTIMEZONE
BEGIN:VEVENT
DTSTART;TZID=UTC:20181006T090000
DTEND;TZID=UTC:20181007T173000
DTSTAMP:20260423T191106
CREATED:20161114T120158Z
LAST-MODIFIED:20161114T120158Z
UID:1270-1538816400-1538933400@www.wildgoosespace.org.uk
SUMMARY:BWY Training
DESCRIPTION:British Wheel of Yoga Training Weekend. \nContact Eve. \neve.yoga@hotmail.co.uk
URL:https://www.wildgoosespace.org.uk/event/bwy-training-14/
END:VEVENT
END:VCALENDAR