BEGIN:VCALENDAR
VERSION:2.0
PRODID:-//Wild Goose Space - ECPv6.15.20//NONSGML v1.0//EN
CALSCALE:GREGORIAN
METHOD:PUBLISH
X-ORIGINAL-URL:https://www.wildgoosespace.org.uk
X-WR-CALDESC:Events for Wild Goose Space
REFRESH-INTERVAL;VALUE=DURATION:PT1H
X-Robots-Tag:noindex
X-PUBLISHED-TTL:PT1H
BEGIN:VTIMEZONE
TZID:UTC
BEGIN:STANDARD
TZOFFSETFROM:+0000
TZOFFSETTO:+0000
TZNAME:UTC
DTSTART:20170101T000000
END:STANDARD
END:VTIMEZONE
BEGIN:VEVENT
DTSTART;TZID=UTC:20180928T133000
DTEND;TZID=UTC:20180928T171500
DTSTAMP:20260423T173318
CREATED:20180926T145023Z
LAST-MODIFIED:20180926T145023Z
UID:5304-1538141400-1538154900@www.wildgoosespace.org.uk
SUMMARY:Georgian Choir Practise
DESCRIPTION:Anthony
URL:https://www.wildgoosespace.org.uk/event/georgian-choir-practise/
END:VEVENT
BEGIN:VEVENT
DTSTART;TZID=UTC:20180928T190000
DTEND;TZID=UTC:20180928T200000
DTSTAMP:20260423T173318
CREATED:20180830T094042Z
LAST-MODIFIED:20180830T094042Z
UID:5169-1538161200-1538164800@www.wildgoosespace.org.uk
SUMMARY:JONGDAR
DESCRIPTION:Buddhist Physical Practices
URL:https://www.wildgoosespace.org.uk/event/jongdar/
END:VEVENT
BEGIN:VEVENT
DTSTART;TZID=UTC:20180928T200000
DTEND;TZID=UTC:20180928T230000
DTSTAMP:20260423T173318
CREATED:20180812T162653Z
LAST-MODIFIED:20180830T093658Z
UID:5117-1538164800-1538175600@www.wildgoosespace.org.uk
SUMMARY:St Werburghs Arts Trail
DESCRIPTION:Art’s Trail Set up
URL:https://www.wildgoosespace.org.uk/event/st-werburghs-arts-trail-2/
END:VEVENT
END:VCALENDAR