BEGIN:VCALENDAR
VERSION:2.0
PRODID:-//Wild Goose Space - ECPv6.15.20//NONSGML v1.0//EN
CALSCALE:GREGORIAN
METHOD:PUBLISH
X-ORIGINAL-URL:https://www.wildgoosespace.org.uk
X-WR-CALDESC:Events for Wild Goose Space
REFRESH-INTERVAL;VALUE=DURATION:PT1H
X-Robots-Tag:noindex
X-PUBLISHED-TTL:PT1H
BEGIN:VTIMEZONE
TZID:UTC
BEGIN:STANDARD
TZOFFSETFROM:+0000
TZOFFSETTO:+0000
TZNAME:UTC
DTSTART:20170101T000000
END:STANDARD
END:VTIMEZONE
BEGIN:VEVENT
DTSTART;TZID=UTC:20180923T090000
DTEND;TZID=UTC:20180923T170000
DTSTAMP:20260423T173345
CREATED:20180620T114522Z
LAST-MODIFIED:20180620T114522Z
UID:4667-1537693200-1537722000@www.wildgoosespace.org.uk
SUMMARY:Anna Grace Jacobs
DESCRIPTION:Opening to the Beloved
URL:https://www.wildgoosespace.org.uk/event/anna-grace-jacobs-15/
END:VEVENT
BEGIN:VEVENT
DTSTART;TZID=UTC:20180923T190000
DTEND;TZID=UTC:20180923T210000
DTSTAMP:20260423T173345
CREATED:20180902T111313Z
LAST-MODIFIED:20180902T111313Z
UID:5223-1537729200-1537736400@www.wildgoosespace.org.uk
SUMMARY:TRE EVENT
DESCRIPTION:TRE event witth Linda Johnson.
URL:https://www.wildgoosespace.org.uk/event/tre-event-22/
END:VEVENT
END:VCALENDAR