BEGIN:VCALENDAR
VERSION:2.0
PRODID:-//Wild Goose Space - ECPv6.15.20//NONSGML v1.0//EN
CALSCALE:GREGORIAN
METHOD:PUBLISH
X-ORIGINAL-URL:https://www.wildgoosespace.org.uk
X-WR-CALDESC:Events for Wild Goose Space
REFRESH-INTERVAL;VALUE=DURATION:PT1H
X-Robots-Tag:noindex
X-PUBLISHED-TTL:PT1H
BEGIN:VTIMEZONE
TZID:UTC
BEGIN:STANDARD
TZOFFSETFROM:+0000
TZOFFSETTO:+0000
TZNAME:UTC
DTSTART:20170101T000000
END:STANDARD
END:VTIMEZONE
BEGIN:VEVENT
DTSTART;TZID=UTC:20180915T090000
DTEND;TZID=UTC:20180916T173000
DTSTAMP:20260423T173344
CREATED:20161114T120018Z
LAST-MODIFIED:20161114T120018Z
UID:1268-1537002000-1537119000@www.wildgoosespace.org.uk
SUMMARY:BWY Training
DESCRIPTION:  \nBritish Wheel of Yoga Training Weekend. \nContact Eve. \neve.yoga@hotmail.co.uk
URL:https://www.wildgoosespace.org.uk/event/bwy-training-13/
END:VEVENT
BEGIN:VEVENT
DTSTART;TZID=UTC:20180916T183000
DTEND;TZID=UTC:20180916T230000
DTSTAMP:20260423T173344
CREATED:20180830T093357Z
LAST-MODIFIED:20180910T131312Z
UID:5167-1537122600-1537138800@www.wildgoosespace.org.uk
SUMMARY:Balanced View Event
DESCRIPTION:Michelle Asher
URL:https://www.wildgoosespace.org.uk/event/event-michelle/
END:VEVENT
END:VCALENDAR