BEGIN:VCALENDAR
VERSION:2.0
PRODID:-//Wild Goose Space - ECPv6.15.20//NONSGML v1.0//EN
CALSCALE:GREGORIAN
METHOD:PUBLISH
X-WR-CALNAME:Wild Goose Space
X-ORIGINAL-URL:https://www.wildgoosespace.org.uk
X-WR-CALDESC:Events for Wild Goose Space
REFRESH-INTERVAL;VALUE=DURATION:PT1H
X-Robots-Tag:noindex
X-PUBLISHED-TTL:PT1H
BEGIN:VTIMEZONE
TZID:UTC
BEGIN:STANDARD
TZOFFSETFROM:+0000
TZOFFSETTO:+0000
TZNAME:UTC
DTSTART:20170101T000000
END:STANDARD
END:VTIMEZONE
BEGIN:VEVENT
DTSTART;TZID=UTC:20180912T111500
DTEND;TZID=UTC:20180912T121500
DTSTAMP:20260423T173214
CREATED:20180802T103759Z
LAST-MODIFIED:20180802T105053Z
UID:4941-1536750900-1536754500@www.wildgoosespace.org.uk
SUMMARY:Intergrated Mother and Baby Yoga - Marinella
DESCRIPTION:£9 per class pre-paid in block of 6-8 consecutive classes (term time only)\nAn informal\, nurturing and fun yoga class for all mothers and babies\, aged 6 weeks until 1 year old (crawlers and movers welcome!). Supporting pelvic realignment\, core strength and emotional wellbeing for mamas through simple and gentle\, yet powerful\, yoga\, breathing practices\, sound work and relaxation/meditation. And lots of interactive and fun stretches\, movements and songs with the babies. These sessions are great to build community and support around you and your baby/babies in this transitional time of your life and have created many long-lasting friendliness over the years.\nPre-booking essential as spaces are limited.\nwww.earthmoonmala.com – marinellabenelli@gmail.com – 07856125677
URL:https://www.wildgoosespace.org.uk/event/mum-baby-yoga-2/
END:VEVENT
END:VCALENDAR